{"text_format":"3","workbook":"xlsx","n_sheets":2,"sheets":["人员名单","Sheet1"],"not_rendered":{"external_links":2,"defined_names":2},"read":"whole","date_system":"1900"}

{"sheet":"人员名单","index":0,"n_rows":145,"n_cols":11,"rows_kept":145,"merged":[[0,0,0,10]]}
["云南省广播电视局2021年事业单位公开招聘工作人员综合成绩"]
["招考单位名称","报考职位","报考职位代码","准考证","笔试成绩","（笔试成绩÷笔试总分×100）×50%","面试成绩","面试成绩\n×50%","综合成绩","排名","是否进入\n体检环节"]
["云南省广播电视局安全播出监测中心","广播电视工程","15399099157001001","3153993310202",{"v":217.5,"d":"217.50"},36.25,83.6,{"v":41.8,"d":"41.80"},78.05,1,"是"]
["云南省广播电视局安全播出监测中心","广播电视工程","15399099157001001","3153993309329",{"v":211.5,"d":"211.50"},35.25,82.8,{"v":41.4,"d":"41.40"},76.65,2,"是"]
["云南省广播电视局安全播出监测中心","广播电视工程","15399099157001001","3153993206218",{"v":206.5,"d":"206.50"},{"v":34.4166666666667,"d":"34.42"},84.2,{"v":42.1,"d":"42.10"},{"v":76.5166666666667,"d":"76.52"},3,"是"]
["云南省广播电视局安全播出监测中心","广播电视工程","15399099157001001","3153993309915",{"v":211,"d":"211.00"},{"v":35.1666666666667,"d":"35.17"},80.6,{"v":40.3,"d":"40.30"},{"v":75.4666666666667,"d":"75.47"},4,"否"]
["云南省广播电视局安全播出监测中心","广播电视工程","15399099157001001","3153993313623",{"v":205,"d":"205.00"},{"v":34.1666666666667,"d":"34.17"},82.2,{"v":41.1,"d":"41.10"},{"v":75.2666666666667,"d":"75.27"},5,"否"]
["云南省广播电视局安全播出监测中心","广播电视工程","15399099157001001","3153993310321",{"v":205,"d":"205.00"},{"v":34.1666666666667,"d":"34.17"},81.6,{"v":40.8,"d":"40.80"},{"v":74.9666666666667,"d":"74.97"},6,"否"]
["云南省广播电视局安全播出监测中心","广播电视工程","15399099157001001","3153993309624",{"v":206,"d":"206.00"},{"v":34.3333333333333,"d":"34.33"},79,{"v":39.5,"d":"39.50"},{"v":73.8333333333333,"d":"73.83"},7,"否"]
["云南省广播电视局保山702台","会计","15399099157005001","1153991503117",{"v":211.5,"d":"211.50"},35.25,81.4,{"v":40.7,"d":"40.70"},75.95,1,"是"]
["云南省广播电视局保山702台","会计","15399099157005001","1153991501121",{"v":203.5,"d":"203.50"},{"v":33.9166666666667,"d":"33.92"},78.2,{"v":39.1,"d":"39.10"},{"v":73.0166666666667,"d":"73.02"},2,"否"]
["云南省广播电视局沧源中波台","文秘","15399099157035001","1153991501424",{"v":200,"d":"200.00"},{"v":33.3333333333333,"d":"33.33"},82.6,{"v":41.3,"d":"41.30"},{"v":74.6333333333333,"d":"74.63"},1,"是"]
["云南省广播电视局沧源中波台","文秘","15399099157035001","1153991503917",{"v":191,"d":"191.00"},{"v":31.8333333333333,"d":"31.83"},79.7,39.85,{"v":71.6833333333333,"d":"71.68"},2,"否"]
["云南省广播电视局沧源中波台","广播电视工程","15399099157035002","3153993208511",{"v":157,"d":"157.00"},{"v":26.1666666666667,"d":"26.17"},81,{"v":40.5,"d":"40.50"},{"v":66.6666666666667,"d":"66.67"},1,"是"]
["云南省广播电视局沧源中波台","广播电视工程","15399099157035002","3153993207402",{"v":156.5,"d":"156.50"},{"v":26.0833333333333,"d":"26.08"},77.8,{"v":38.9,"d":"38.90"},{"v":64.9833333333333,"d":"64.98"},2,"否"]
["云南省广播电视局大理实验台","会计","15399099157012001","1153991503422",{"v":208,"d":"208.00"},{"v":34.6666666666667,"d":"34.67"},79.2,{"v":39.6,"d":"39.60"},{"v":74.2666666666667,"d":"74.27"},1,"是"]
["云南省广播电视局大理实验台","会计","15399099157012001","1153991501928",{"v":207.5,"d":"207.50"},{"v":34.5833333333333,"d":"34.58"},78.04,39.02,{"v":73.6033333333333,"d":"73.60"},2,"否"]
["云南省广播电视局德宏705台","会计","15399099157006001","1153991502818",{"v":204,"d":"204.00"},{"v":34,"d":"34.00"},79.8,{"v":39.9,"d":"39.90"},{"v":73.9,"d":"73.90"},1,"是"]
["云南省广播电视局德宏705台","会计","15399099157006001","1153991500926",{"v":201.5,"d":"201.50"},{"v":33.5833333333333,"d":"33.58"},77.3,38.65,{"v":72.2333333333333,"d":"72.23"},2,"否"]
["云南省广播电视局迪庆实验台","文秘","15399099157011001","1153991502430",{"v":204,"d":"204.00"},{"v":34,"d":"34.00"},85.2,{"v":42.6,"d":"42.60"},{"v":76.6,"d":"76.60"},1,"是"]
["云南省广播电视局迪庆实验台","文秘","15399099157011001","1153991505711",{"v":209,"d":"209.00"},{"v":34.8333333333333,"d":"34.83"},80,{"v":40,"d":"40.00"},{"v":74.8333333333333,"d":"74.83"},2,"否"]
["云南省广播电视局迪庆实验台","广播电视工程","15399099157011002","3153993204216",{"v":150,"d":"150.00"},{"v":25,"d":"25.00"},80.6,{"v":40.3,"d":"40.30"},{"v":65.3,"d":"65.30"},1,"是 "]
["云南省广播电视局迪庆实验台","广播电视工程","15399099157011002","3153993207816",{"v":134.5,"d":"134.50"},{"v":22.4166666666667,"d":"22.42"},79.4,{"v":39.7,"d":"39.70"},{"v":62.1166666666667,"d":"62.12"},2,"否 "]
["云南省广播电视局迪庆中波台","会计","15399099157009001","1153991505807",{"v":209,"d":"209.00"},{"v":34.8333333333333,"d":"34.83"},79.1,39.55,{"v":74.3833333333333,"d":"74.38"},1,"是 "]
["云南省广播电视局迪庆中波台","会计","15399099157009001","1153991500322",{"v":198.5,"d":"198.50"},{"v":33.0833333333333,"d":"33.08"},82.2,{"v":41.1,"d":"41.10"},{"v":74.1833333333333,"d":"74.18"},2,"否 "]
["云南省广播电视局迪庆中波台","文秘","15399099157009002","1153991504306",{"v":206.5,"d":"206.50"},{"v":34.4166666666667,"d":"34.42"},82.3,41.15,{"v":75.5666666666667,"d":"75.57"},1,"是 "]
["云南省广播电视局福贡中波台","会计","15399099157033001","1153991505127",{"v":180.5,"d":"180.50"},{"v":30.0833333333333,"d":"30.08"},78.3,39.15,{"v":69.2333333333333,"d":"69.23"},1,"是 "]
["云南省广播电视局福贡中波台","会计","15399099157033001","1153991505730",{"v":169.5,"d":"169.50"},28.25,76.2,{"v":38.1,"d":"38.10"},66.35,2,"否 "]
["云南省广播电视局福贡中波台","文秘","15399099157033002","1153991500815",{"v":152,"d":"152.00"},{"v":25.3333333333333,"d":"25.33"},80,{"v":40,"d":"40.00"},{"v":65.3333333333333,"d":"65.33"},1,"是 "]
["云南省广播电视局福贡中波台","文秘","15399099157033002","1153991501820",{"v":136.5,"d":"136.50"},22.75,77.7,38.85,{"v":61.6,"d":"61.60"},2,"否 "]
["云南省广播电视局福贡中波台","广播电视工程","15399099157033003","3153993208104",{"v":120,"d":"120.00"},{"v":20,"d":"20.00"},77.8,{"v":38.9,"d":"38.90"},{"v":58.9,"d":"58.90"},1,"是 "]
["云南省广播电视局富宁中波台","文秘","15399099157021001","1153991504101",{"v":205.5,"d":"205.50"},34.25,81.8,{"v":40.9,"d":"40.90"},75.15,1,"是 "]
["云南省广播电视局富宁中波台","文秘","15399099157021001","1153991502622",{"v":193,"d":"193.00"},{"v":32.1666666666667,"d":"32.17"},79.4,{"v":39.7,"d":"39.70"},{"v":71.8666666666667,"d":"71.87"},2,"否 "]
["云南省广播电视局富宁中波台","广播电视工程","15399099157021002","3153993204811",{"v":191,"d":"191.00"},{"v":31.8333333333333,"d":"31.83"},81,{"v":40.5,"d":"40.50"},{"v":72.3333333333333,"d":"72.33"},1,"是 "]
["云南省广播电视局富宁中波台","广播电视工程","15399099157021002","3153993208519",{"v":145,"d":"145.00"},{"v":24.1666666666667,"d":"24.17"},79.8,{"v":39.9,"d":"39.90"},{"v":64.0666666666667,"d":"64.07"},2,"否 "]
["云南省广播电视局贡山中波台","广播电视工程","15399099157034001","3153993204308",{"v":133,"d":"133.00"},{"v":22.1666666666667,"d":"22.17"},77.8,{"v":38.9,"d":"38.90"},{"v":61.0666666666667,"d":"61.07"},1,"是 "]
["云南省广播电视局河口中波台","文秘","15399099157017001","1153991500414",{"v":183,"d":"183.00"},{"v":30.5,"d":"30.50"},77.9,38.95,69.45,1,"是 "]
["云南省广播电视局河口中波台","文秘","15399099157017001","1153991503910",{"v":168.5,"d":"168.50"},{"v":28.0833333333333,"d":"28.08"},0,{"v":0,"d":"0.00"},{"v":28.0833333333333,"d":"28.08"},2,"否 "]
["云南省广播电视局河口中波台","广播电视工程","15399099157017002","3153993208317",{"v":181.5,"d":"181.50"},30.25,82.8,{"v":41.4,"d":"41.40"},71.65,1,"是 "]
["云南省广播电视局河口中波台","广播电视工程","15399099157017002","3153993205426",{"v":173,"d":"173.00"},{"v":28.8333333333333,"d":"28.83"},82.8,{"v":41.4,"d":"41.40"},{"v":70.2333333333333,"d":"70.23"},2,"否 "]
["云南省广播电视局江城中波台","文秘","15399099157024001","1153991502808",{"v":209,"d":"209.00"},{"v":34.8333333333333,"d":"34.83"},81.2,{"v":40.6,"d":"40.60"},{"v":75.4333333333333,"d":"75.43"},1,"是 "]
["云南省广播电视局江城中波台","文秘","15399099157024001","1153991503415",{"v":173,"d":"173.00"},{"v":28.8333333333333,"d":"28.83"},75.2,{"v":37.6,"d":"37.60"},{"v":66.4333333333333,"d":"66.43"},2,"否 "]
["云南省广播电视局金平中波台","会计","15399099157016001","1153991505003",{"v":214,"d":"214.00"},{"v":35.6666666666667,"d":"35.67"},79.4,{"v":39.7,"d":"39.70"},{"v":75.3666666666667,"d":"75.37"},1,"是 "]
["云南省广播电视局金平中波台","会计","15399099157016001","1153991505109",{"v":193,"d":"193.00"},{"v":32.1666666666667,"d":"32.17"},79.4,{"v":39.7,"d":"39.70"},{"v":71.8666666666667,"d":"71.87"},2,"否 "]
["云南省广播电视局金平中波台","文秘","15399099157016002","1153991503409",{"v":185.5,"d":"185.50"},{"v":30.9166666666667,"d":"30.92"},80,{"v":40,"d":"40.00"},{"v":70.9166666666667,"d":"70.92"},1,"是 "]
["云南省广播电视局金平中波台","文秘","15399099157016002","1153991503630",{"v":176,"d":"176.00"},{"v":29.3333333333333,"d":"29.33"},78.5,39.25,{"v":68.5833333333333,"d":"68.58"},2,"否 "]
["云南省广播电视局景东695台","文秘","15399099157023001","1153991500219",{"v":202.5,"d":"202.50"},33.75,82,{"v":41,"d":"41.00"},74.75,1,"是 "]
["云南省广播电视局景东695台","文秘","15399099157023001","1153991502001",{"v":198,"d":"198.00"},{"v":33,"d":"33.00"},78.4,{"v":39.2,"d":"39.20"},{"v":72.2,"d":"72.20"},2,"否 "]
["云南省广播电视局开远实验台","文秘","15399099157013001","1153991505618",{"v":210.5,"d":"210.50"},{"v":35.0833333333333,"d":"35.08"},79.9,39.95,{"v":75.0333333333333,"d":"75.03"},1,"是 "]
["云南省广播电视局开远实验台","文秘","15399099157013001","1153991502010",{"v":198,"d":"198.00"},{"v":33,"d":"33.00"},78.8,{"v":39.4,"d":"39.40"},{"v":72.4,"d":"72.40"},2,"否 "]
["云南省广播电视局澜沧中波台","会计","15399099157026001","1153991502109",{"v":209.5,"d":"209.50"},{"v":34.9166666666667,"d":"34.92"},80.1,40.05,{"v":74.9666666666667,"d":"74.97"},1,"是 "]
["云南省广播电视局澜沧中波台","会计","15399099157026001","1153991502101",{"v":198.5,"d":"198.50"},{"v":33.0833333333333,"d":"33.08"},74.7,37.35,{"v":70.4333333333333,"d":"70.43"},2,"否 "]
["云南省广播电视局澜沧中波台","文秘","15399099157026002","1153991505402",{"v":202,"d":"202.00"},{"v":33.6666666666667,"d":"33.67"},80.7,40.35,{"v":74.0166666666667,"d":"74.02"},1,"是 "]
["云南省广播电视局澜沧中波台","文秘","15399099157026002","1153991501320",{"v":179.5,"d":"179.50"},{"v":29.9166666666667,"d":"29.92"},76.3,38.15,{"v":68.0666666666667,"d":"68.07"},2,"否 "]
["云南省广播电视局丽江704台","文秘","15399099157007001","1153991503719",{"v":215.5,"d":"215.50"},{"v":35.9166666666667,"d":"35.92"},82,{"v":41,"d":"41.00"},{"v":76.9166666666667,"d":"76.92"},1,"是 "]
["云南省广播电视局丽江704台","文秘","15399099157007001","1153991501418",{"v":216,"d":"216.00"},{"v":36,"d":"36.00"},81.6,{"v":40.8,"d":"40.80"},{"v":76.8,"d":"76.80"},2,"否 "]
["云南省广播电视局丽江704台","广播电视工程","15399099157007002","3153993204510",{"v":194.5,"d":"194.50"},{"v":32.4166666666667,"d":"32.42"},81.8,{"v":40.9,"d":"40.90"},{"v":73.3166666666667,"d":"73.32"},1,"是 "]
["云南省广播电视局丽江704台","广播电视工程","15399099157007002","3153993208008",{"v":195,"d":"195.00"},{"v":32.5,"d":"32.50"},81.2,{"v":40.6,"d":"40.60"},{"v":73.1,"d":"73.10"},2,"否 "]
["云南省广播电视局丽江704台","广播电视工程","15399099157007002","3153993208716",{"v":195,"d":"195.00"},{"v":32.5,"d":"32.50"},80.6,{"v":40.3,"d":"40.30"},{"v":72.8,"d":"72.80"},3,"否 "]
["云南省广播电视局陇川中波台","文秘","15399099157031001","1153991503102",{"v":182.5,"d":"182.50"},{"v":30.4166666666667,"d":"30.42"},82.1,41.05,{"v":71.4666666666667,"d":"71.47"},1,"是 "]
["云南省广播电视局陇川中波台","文秘","15399099157031001","1153991500512",{"v":173,"d":"173.00"},{"v":28.8333333333333,"d":"28.83"},80.6,{"v":40.3,"d":"40.30"},{"v":69.1333333333333,"d":"69.13"},2,"否 "]
["云南省广播电视局陇川中波台","广播电视工程","15399099157031002","3153993206106",{"v":165.5,"d":"165.50"},{"v":27.5833333333333,"d":"27.58"},79,{"v":39.5,"d":"39.50"},{"v":67.0833333333333,"d":"67.08"},1,"是 "]
["云南省广播电视局陇川中波台","广播电视工程","15399099157031002","3153993205828",{"v":138,"d":"138.00"},{"v":23,"d":"23.00"},83.6,{"v":41.8,"d":"41.80"},{"v":64.8,"d":"64.80"},2,"否 "]
["云南省广播电视局绿春中波台","文秘","15399099157018001","1153991503708",{"v":177.5,"d":"177.50"},{"v":29.5833333333333,"d":"29.58"},78.6,{"v":39.3,"d":"39.30"},{"v":68.8833333333333,"d":"68.88"},1,"是 "]
["云南省广播电视局绿春中波台","文秘","15399099157018001","1153991504130",{"v":169.5,"d":"169.50"},28.25,77.6,{"v":38.8,"d":"38.80"},67.05,2,"否 "]
["云南省广播电视局绿春中波台","广播电视工程","15399099157018002","3153993205506",{"v":166,"d":"166.00"},{"v":27.6666666666667,"d":"27.67"},81.6,{"v":40.8,"d":"40.80"},{"v":68.4666666666667,"d":"68.47"},1,"是 "]
["云南省广播电视局绿春中波台","广播电视工程","15399099157018002","3153993205505",{"v":164,"d":"164.00"},{"v":27.3333333333333,"d":"27.33"},79.2,{"v":39.6,"d":"39.60"},{"v":66.9333333333333,"d":"66.93"},2,"否 "]
["云南省广播电视局麻栗坡中波台","文秘","15399099157019001","1153991505229",{"v":194,"d":"194.00"},{"v":32.3333333333333,"d":"32.33"},83.1,41.55,{"v":73.8833333333333,"d":"73.88"},1,"是 "]
["云南省广播电视局麻栗坡中波台","文秘","15399099157019001","1153991500705",{"v":180,"d":"180.00"},{"v":30,"d":"30.00"},79.1,39.55,69.55,2,"否 "]
["云南省广播电视局麻栗坡中波台","广播电视工程","15399099157019002","3153993205914",{"v":201,"d":"201.00"},{"v":33.5,"d":"33.50"},79.2,{"v":39.6,"d":"39.60"},{"v":73.1,"d":"73.10"},1,"是 "]
["云南省广播电视局麻栗坡中波台","广播电视工程","15399099157019002","3153993207628",{"v":191,"d":"191.00"},{"v":31.8333333333333,"d":"31.83"},81.6,{"v":40.8,"d":"40.80"},{"v":72.6333333333333,"d":"72.63"},2,"是 "]
["云南省广播电视局麻栗坡中波台","广播电视工程","15399099157019002","3153993208301",{"v":190.5,"d":"190.50"},31.75,81,{"v":40.5,"d":"40.50"},72.25,3,"是 "]
["云南省广播电视局麻栗坡中波台","广播电视工程","15399099157019002","3153993204930",{"v":172.5,"d":"172.50"},28.75,80.4,{"v":40.2,"d":"40.20"},68.95,4,"否 "]
["云南省广播电视局麻栗坡中波台","广播电视工程","15399099157019002","3153993208411",{"v":170.5,"d":"170.50"},{"v":28.4166666666667,"d":"28.42"},78.6,{"v":39.3,"d":"39.30"},{"v":67.7166666666667,"d":"67.72"},5,"否 "]
["云南省广播电视局马关中波台","会计","15399099157020001","1153991500729",{"v":209.5,"d":"209.50"},{"v":34.9166666666667,"d":"34.92"},77,{"v":38.5,"d":"38.50"},{"v":73.4166666666667,"d":"73.42"},1,"是 "]
["云南省广播电视局马关中波台","会计","15399099157020001","1153991501105",{"v":192.5,"d":"192.50"},{"v":32.0833333333333,"d":"32.08"},79.56,39.78,{"v":71.8633333333333,"d":"71.86"},2,"否 "]
["云南省广播电视局马关中波台","文秘","15399099157020002","1153991500912",{"v":191,"d":"191.00"},{"v":31.8333333333333,"d":"31.83"},80.4,{"v":40.2,"d":"40.20"},{"v":72.0333333333333,"d":"72.03"},1,"是 "]
["云南省广播电视局马关中波台","文秘","15399099157020002","1153991500417",{"v":191,"d":"191.00"},{"v":31.8333333333333,"d":"31.83"},80.3,40.15,{"v":71.9833333333333,"d":"71.98"},2,"否 "]
["云南省广播电视局马关中波台","文秘","15399099157020002","1153991500726",{"v":187.5,"d":"187.50"},31.25,80.8,{"v":40.4,"d":"40.40"},71.65,3,"否 "]
["云南省广播电视局勐腊中波台","文秘","15399099157028001","1153991500913",{"v":153.5,"d":"153.50"},{"v":25.5833333333333,"d":"25.58"},78.9,39.45,{"v":65.0333333333333,"d":"65.03"},1,"是 "]
["云南省广播电视局勐腊中波台","文秘","15399099157028001","1153991502021",{"v":157,"d":"157.00"},{"v":26.1666666666667,"d":"26.17"},0,{"v":0,"d":"0.00"},{"v":26.1666666666667,"d":"26.17"},2,"否 "]
["云南省广播电视局勐腊中波台","广播电视工程","15399099157028002","3153993207721",{"v":178.5,"d":"178.50"},29.75,80.2,{"v":40.1,"d":"40.10"},69.85,1,"是 "]
["云南省广播电视局勐腊中波台","广播电视工程","15399099157028002","3153993207707",{"v":148,"d":"148.00"},{"v":24.6666666666667,"d":"24.67"},74.9,37.45,{"v":62.1166666666667,"d":"62.12"},2,"否 "]
["云南省广播电视局孟连中波台","会计","15399099157025001","1153991500925",{"v":197.5,"d":"197.50"},{"v":32.9166666666667,"d":"32.92"},78.2,{"v":39.1,"d":"39.10"},{"v":72.0166666666667,"d":"72.02"},1,"是 "]
["云南省广播电视局孟连中波台","会计","15399099157025001","1153991503828",{"v":166,"d":"166.00"},{"v":27.6666666666667,"d":"27.67"},75.4,{"v":37.7,"d":"37.70"},{"v":65.3666666666667,"d":"65.37"},2,"否 "]
["云南省广播电视局怒江中波台","文秘","15399099157008001","1153991500305",{"v":204,"d":"204.00"},{"v":34,"d":"34.00"},82.2,{"v":41.1,"d":"41.10"},{"v":75.1,"d":"75.10"},1,"是 "]
["云南省广播电视局怒江中波台","文秘","15399099157008001","1153991502305",{"v":193,"d":"193.00"},{"v":32.1666666666667,"d":"32.17"},81.8,{"v":40.9,"d":"40.90"},{"v":73.0666666666667,"d":"73.07"},2,"否 "]
["云南省广播电视局怒江中波台","广播电视工程","15399099157008002","3153993208725",{"v":181.5,"d":"181.50"},30.25,79.8,{"v":39.9,"d":"39.90"},70.15,1,"是 "]
["云南省广播电视局怒江中波台","广播电视工程","15399099157008002","3153993205630",{"v":153,"d":"153.00"},{"v":25.5,"d":"25.50"},0,{"v":0,"d":"0.00"},{"v":25.5,"d":"25.50"},2,"否 "]
["云南省广播电视局普洱701台","文秘","15399099157022001","1153991501611",{"v":193,"d":"193.00"},{"v":32.1666666666667,"d":"32.17"},80,{"v":40,"d":"40.00"},{"v":72.1666666666667,"d":"72.17"},1,"是 "]
["云南省广播电视局普洱701台","文秘","15399099157022001","1153991505428",{"v":192.5,"d":"192.50"},{"v":32.0833333333333,"d":"32.08"},79.9,39.95,{"v":72.0333333333333,"d":"72.03"},2,"否 "]
["云南省广播电视局普洱701台","广播电视工程","15399099157022002","3153993207425",{"v":194.5,"d":"194.50"},{"v":32.4166666666667,"d":"32.42"},83,{"v":41.5,"d":"41.50"},{"v":73.9166666666667,"d":"73.92"},1,"是 "]
["云南省广播电视局普洱701台","广播电视工程","15399099157022002","3153993208923",{"v":185.5,"d":"185.50"},{"v":30.9166666666667,"d":"30.92"},80.9,40.45,{"v":71.3666666666667,"d":"71.37"},2,"否 "]
["云南省广播电视局瑞丽中波台","文秘","15399099157030001","1153991501302",{"v":208,"d":"208.00"},{"v":34.6666666666667,"d":"34.67"},83.5,41.75,{"v":76.4166666666667,"d":"76.42"},1,"是 "]
["云南省广播电视局瑞丽中波台","文秘","15399099157030001","1153991500927",{"v":198.5,"d":"198.50"},{"v":33.0833333333333,"d":"33.08"},85.2,{"v":42.6,"d":"42.60"},{"v":75.6833333333333,"d":"75.68"},2,"否 "]
["云南省广播电视局瑞丽中波台","广播电视工程","15399099157030022","3153993206829",{"v":179.5,"d":"179.50"},{"v":29.9166666666667,"d":"29.92"},79.4,{"v":39.7,"d":"39.70"},{"v":69.6166666666667,"d":"69.62"},1,"是 "]
["云南省广播电视局瑞丽中波台","广播电视工程","15399099157030022","3153993204411",{"v":141.5,"d":"141.50"},{"v":23.5833333333333,"d":"23.58"},77.8,{"v":38.9,"d":"38.90"},{"v":62.4833333333333,"d":"62.48"},2,"否 "]
["云南省广播电视局事业发展中心","广播电视工程","15399099157002001","3153993208120",{"v":202.5,"d":"202.50"},33.75,82.3,41.15,{"v":74.9,"d":"74.90"},1,"是 "]
["云南省广播电视局事业发展中心","广播电视工程","15399099157002001","3153993206107",{"v":199.5,"d":"199.50"},33.25,77.6,{"v":38.8,"d":"38.80"},72.05,2,"否 "]
["云南省广播电视局事业发展中心","广播电视工程","15399099157002002","3153993312714",{"v":194.5,"d":"194.50"},{"v":32.4166666666667,"d":"32.42"},81.1,40.55,{"v":72.9666666666667,"d":"72.97"},1,"是 "]
["云南省广播电视局事业发展中心","广播电视工程","15399099157002002","3153993312205",{"v":183,"d":"183.00"},{"v":30.5,"d":"30.50"},0,{"v":0,"d":"0.00"},{"v":30.5,"d":"30.50"},2,"否 "]
["云南省广播电视局事业发展中心","编辑","15399099157002003","2153991205719",{"v":222.5,"d":"222.50"},{"v":37.0833333333333,"d":"37.08"},81.6,{"v":40.8,"d":"40.80"},{"v":77.8833333333333,"d":"77.88"},1,"是 "]
["云南省广播电视局事业发展中心","编辑","15399099157002003","2153991205123",{"v":223,"d":"223.00"},{"v":37.1666666666667,"d":"37.17"},78.4,{"v":39.2,"d":"39.20"},{"v":76.3666666666667,"d":"76.37"},2,"是 "]
["云南省广播电视局事业发展中心","编辑","15399099157002003","2153991207507",{"v":222.5,"d":"222.50"},{"v":37.0833333333333,"d":"37.08"},78.3,39.15,{"v":76.2333333333333,"d":"76.23"},3,"是 "]
["云南省广播电视局事业发展中心","编辑","15399099157002003","2153991202528",{"v":219,"d":"219.00"},{"v":36.5,"d":"36.50"},79.2,{"v":39.6,"d":"39.60"},{"v":76.1,"d":"76.10"},4,"否 "]
["云南省广播电视局事业发展中心","编辑","15399099157002003","2153991200321",{"v":217.5,"d":"217.50"},36.25,79.4,{"v":39.7,"d":"39.70"},75.95,5,"否 "]
["云南省广播电视局事业发展中心","编辑","15399099157002003","2153991201923",{"v":215.5,"d":"215.50"},{"v":35.9166666666667,"d":"35.92"},79.6,{"v":39.8,"d":"39.80"},{"v":75.7166666666667,"d":"75.72"},6,"否 "]
["云南省广播电视局事业发展中心","编辑","15399099157002003","2153991206408",{"v":211,"d":"211.00"},{"v":35.1666666666667,"d":"35.17"},78,{"v":39,"d":"39.00"},{"v":74.1666666666667,"d":"74.17"},7,"否 "]
["云南省广播电视局事业发展中心","编辑","15399099157002004","2153991208509",{"v":217.5,"d":"217.50"},36.25,81.8,{"v":40.9,"d":"40.90"},77.15,1,"是 "]
["云南省广播电视局事业发展中心","编辑","15399099157002004","2153991207807",{"v":218,"d":"218.00"},{"v":36.3333333333333,"d":"36.33"},81.3,40.65,{"v":76.9833333333333,"d":"76.98"},2,"是 "]
["云南省广播电视局事业发展中心","编辑","15399099157002004","2153991201016",{"v":218,"d":"218.00"},{"v":36.3333333333333,"d":"36.33"},80.6,{"v":40.3,"d":"40.30"},{"v":76.6333333333333,"d":"76.63"},3,"否 "]
["云南省广播电视局事业发展中心","编辑","15399099157002004","2153991200804",{"v":225,"d":"225.00"},{"v":37.5,"d":"37.50"},77.8,{"v":38.9,"d":"38.90"},{"v":76.4,"d":"76.40"},4,"否 "]
["云南省广播电视局事业发展中心","编辑","15399099157002004","2153991204614",{"v":218.5,"d":"218.50"},{"v":36.4166666666667,"d":"36.42"},79.5,39.75,{"v":76.1666666666667,"d":"76.17"},5,"否 "]
["云南省广播电视局腾冲中波台","会计","15399099157029001","1153991500826",{"v":210,"d":"210.00"},{"v":35,"d":"35.00"},80.46,40.23,75.23,1,"是 "]
["云南省广播电视局腾冲中波台","会计","15399099157029001","1153991502727",{"v":199,"d":"199.00"},{"v":33.1666666666667,"d":"33.17"},79.3,39.65,{"v":72.8166666666667,"d":"72.82"},2,"否 "]
["云南省广播电视局文山703台","会计","15399099157004001","1153991502025",{"v":210,"d":"210.00"},{"v":35,"d":"35.00"},81.3,40.65,75.65,1,"是 "]
["云南省广播电视局文山703台","会计","15399099157004001","1153991504425",{"v":193,"d":"193.00"},{"v":32.1666666666667,"d":"32.17"},78.6,{"v":39.3,"d":"39.30"},{"v":71.4666666666667,"d":"71.47"},2,"否 "]
["云南省广播电视局西盟中波台","文秘","15399099157027001","1153991502222",{"v":153,"d":"153.00"},{"v":25.5,"d":"25.50"},78.8,{"v":39.4,"d":"39.40"},{"v":64.9,"d":"64.90"},1,"是 "]
["云南省广播电视局西盟中波台","文秘","15399099157027001","1153991504817",{"v":137.5,"d":"137.50"},{"v":22.9166666666667,"d":"22.92"},75.1,37.55,{"v":60.4666666666667,"d":"60.47"},2,"否 "]
["云南省广播电视局西盟中波台","广播电视工程","15399099157027002","3153993207408",{"v":171,"d":"171.00"},{"v":28.5,"d":"28.50"},81.4,{"v":40.7,"d":"40.70"},{"v":69.2,"d":"69.20"},1,"是 "]
["云南省广播电视局西盟中波台","广播电视工程","15399099157027002","3153993207301",{"v":152,"d":"152.00"},{"v":25.3333333333333,"d":"25.33"},80.6,{"v":40.3,"d":"40.30"},{"v":65.6333333333333,"d":"65.63"},2,"是 "]
["云南省广播电视局西盟中波台","广播电视工程","15399099157027002","3153993205230",{"v":146,"d":"146.00"},{"v":24.3333333333333,"d":"24.33"},81.6,{"v":40.8,"d":"40.80"},{"v":65.1333333333333,"d":"65.13"},3,"是"]
["云南省广播电视局西盟中波台","广播电视工程","15399099157027002","3153993205927",{"v":144.5,"d":"144.50"},{"v":24.0833333333333,"d":"24.08"},78.6,{"v":39.3,"d":"39.30"},{"v":63.3833333333333,"d":"63.38"},4,"否 "]
["云南省广播电视局西盟中波台","广播电视工程","15399099157027002","3153993206802",{"v":133.5,"d":"133.50"},22.25,76.4,{"v":38.2,"d":"38.20"},60.45,5,"否 "]
["云南省广播电视局西双版纳中波台","会计","15399099157010001","1153991503528",{"v":201,"d":"201.00"},{"v":33.5,"d":"33.50"},79,{"v":39.5,"d":"39.50"},{"v":73,"d":"73.00"},1,"是 "]
["云南省广播电视局西双版纳中波台","会计","15399099157010001","1153991500625",{"v":181.5,"d":"181.50"},30.25,80.2,{"v":40.1,"d":"40.10"},70.35,2,"否 "]
["云南省广播电视局盈江中波台","会计","15399099157032001","1153991501927",{"v":200.5,"d":"200.50"},{"v":33.4166666666667,"d":"33.42"},80.5,40.25,{"v":73.6666666666667,"d":"73.67"},1,"是 "]
["云南省广播电视局盈江中波台","会计","15399099157032001","1153991502301",{"v":201.5,"d":"201.50"},{"v":33.5833333333333,"d":"33.58"},79.3,39.65,{"v":73.2333333333333,"d":"73.23"},2,"否 "]
["云南省广播电视局盈江中波台","文秘","15399099157032002","1153991503602",{"v":203,"d":"203.00"},{"v":33.8333333333333,"d":"33.83"},83.1,41.55,{"v":75.3833333333333,"d":"75.38"},1,"是 "]
["云南省广播电视局盈江中波台","文秘","15399099157032002","1153991501821",{"v":200,"d":"200.00"},{"v":33.3333333333333,"d":"33.33"},83.2,{"v":41.6,"d":"41.60"},{"v":74.9333333333333,"d":"74.93"},2,"否 "]
["云南省广播电视局永仁698台","文秘","15399099157014001","1153991504214",{"v":211,"d":"211.00"},{"v":35.1666666666667,"d":"35.17"},84.8,{"v":42.4,"d":"42.40"},{"v":77.5666666666667,"d":"77.57"},1,"是 "]
["云南省广播电视局永仁698台","文秘","15399099157014001","1153991502524",{"v":204.5,"d":"204.50"},{"v":34.0833333333333,"d":"34.08"},82.3,41.15,{"v":75.2333333333333,"d":"75.23"},2,"否 "]
["云南省广播电视局元江694台","文秘","15399099157015001","1153991500628",{"v":202.5,"d":"202.50"},33.75,82.3,41.15,{"v":74.9,"d":"74.90"},1,"是 "]
["云南省广播电视局元江694台","文秘","15399099157015001","1153991502415",{"v":191.5,"d":"191.50"},{"v":31.9166666666667,"d":"31.92"},80.4,{"v":40.2,"d":"40.20"},{"v":72.1166666666667,"d":"72.12"},2,"否 "]
["云南省广播电视局元江694台","广播电视工程","15399099157015002","3153993207229",{"v":207.5,"d":"207.50"},{"v":34.5833333333333,"d":"34.58"},81,{"v":40.5,"d":"40.50"},{"v":75.0833333333333,"d":"75.08"},1,"是 "]
["云南省广播电视局元江694台","广播电视工程","15399099157015002","3153993206617",{"v":186.5,"d":"186.50"},{"v":31.0833333333333,"d":"31.08"},81.6,{"v":40.8,"d":"40.80"},{"v":71.8833333333333,"d":"71.88"},2,"否 "]
["云南省广播电视局昭通697台","会计","15399099157003001","1153991503611",{"v":202.5,"d":"202.50"},33.75,77.5,38.75,{"v":72.5,"d":"72.50"},1,"是 "]
["云南省广播电视局昭通697台","会计","15399099157003001","1153991503111",{"v":196.5,"d":"196.50"},32.75,78.56,39.28,72.03,2,"否 "]
["云南省广播电视局昭通697台","广播电视工程","15399099157003002","3153993205110",{"v":192.5,"d":"192.50"},{"v":32.0833333333333,"d":"32.08"},82.2,{"v":41.1,"d":"41.10"},{"v":73.1833333333333,"d":"73.18"},1,"是 "]
["云南省广播电视局昭通697台","广播电视工程","15399099157003002","3153993204504",{"v":185,"d":"185.00"},{"v":30.8333333333333,"d":"30.83"},81.8,{"v":40.9,"d":"40.90"},{"v":71.7333333333333,"d":"71.73"},2,"否 "]
["云南省广播电视局镇康中波台","文秘","15399099157036001","1153991501401",{"v":201.5,"d":"201.50"},{"v":33.5833333333333,"d":"33.58"},81,{"v":40.5,"d":"40.50"},{"v":74.0833333333333,"d":"74.08"},1,"是 "]
["云南省广播电视局镇康中波台","文秘","15399099157036001","1153991501810",{"v":180.5,"d":"180.50"},{"v":30.0833333333333,"d":"30.08"},79.7,39.85,{"v":69.9333333333333,"d":"69.93"},2,"否 "]
["云南省广播电视局镇康中波台","广播电视工程","15399099157036002","3153993204127",{"v":201,"d":"201.00"},{"v":33.5,"d":"33.50"},80.6,{"v":40.3,"d":"40.30"},{"v":73.8,"d":"73.80"},1,"是 "]
["云南省广播电视局镇康中波台","广播电视工程","15399099157036002","3153993205502",{"v":177,"d":"177.00"},{"v":29.5,"d":"29.50"},81.8,{"v":40.9,"d":"40.90"},{"v":70.4,"d":"70.40"},2,"是 "]
["云南省广播电视局镇康中波台","广播电视工程","15399099157036002","3153993207406",{"v":168.5,"d":"168.50"},{"v":28.0833333333333,"d":"28.08"},81,{"v":40.5,"d":"40.50"},{"v":68.5833333333333,"d":"68.58"},3,"否 "]

{"sheet":"Sheet1","index":1,"n_rows":145,"n_cols":12,"rows_kept":145,"merged":[[0,1,0,11]]}
[null,"云南省广播电视局2021年事业单位公开招聘工作人员综合成绩"]
["准考证号","招考单位名称","报考职位","报考职位代码","准考证","笔试成绩","（笔试成绩÷\n笔试总分×100）×50%","面试成绩","面试成绩\n×50%","综合成绩","排名","是否进入\n体检环节"]
["3153993206218",{"$f":"VLOOKUP(A3,[1]Sheet3!$B$3:$G$145,2,FALSE)","v":"云南省广播电视局安全播出监测中心"},{"$f":"VLOOKUP(A3,[1]Sheet3!$B$3:$G$145,3,FALSE)","v":"广播电视工程"},{"$f":"VLOOKUP(A3,[1]Sheet3!$B$3:$G$145,4,FALSE)","v":"15399099157001001"},{"$f":"VLOOKUP(A3,[1]Sheet3!$B$3:$G$145,1,FALSE)","v":"3153993206218"},{"$f":"VLOOKUP(A3,[2]Sheet1!$CE$2:$CS$1539,15,FALSE)","v":{"v":206.5,"d":"206.50"}},{"$f":"(F3/300*100)*0.5","v":{"v":34.4166666666667,"d":"34.42"}},{"$f":"VLOOKUP(A3,[1]Sheet3!$B$3:$G$145,6,FALSE)","v":84.2},{"$f":"H3*0.5","v":{"v":42.1,"d":"42.10"}},{"$f":"G3+I3","v":{"v":76.5166666666667,"d":"76.52"}}]
["3153993310202",{"$f":"VLOOKUP(A4,[1]Sheet3!$B$3:$G$145,2,FALSE)","v":"云南省广播电视局安全播出监测中心"},{"$f":"VLOOKUP(A4,[1]Sheet3!$B$3:$G$145,3,FALSE)","v":"广播电视工程"},{"$f":"VLOOKUP(A4,[1]Sheet3!$B$3:$G$145,4,FALSE)","v":"15399099157001001"},{"$f":"VLOOKUP(A4,[1]Sheet3!$B$3:$G$145,1,FALSE)","v":"3153993310202"},{"$f":"VLOOKUP(A4,[2]Sheet1!$CE$2:$CS$1539,15,FALSE)","v":{"v":217.5,"d":"217.50"}},36.25,{"$f":"VLOOKUP(A4,[1]Sheet3!$B$3:$G$145,6,FALSE)","v":83.6},{"v":41.8,"d":"41.80"},78.05]
["3153993309329",{"$f":"VLOOKUP(A5,[1]Sheet3!$B$3:$G$145,2,FALSE)","v":"云南省广播电视局安全播出监测中心"},{"$f":"VLOOKUP(A5,[1]Sheet3!$B$3:$G$145,3,FALSE)","v":"广播电视工程"},{"$f":"VLOOKUP(A5,[1]Sheet3!$B$3:$G$145,4,FALSE)","v":"15399099157001001"},{"$f":"VLOOKUP(A5,[1]Sheet3!$B$3:$G$145,1,FALSE)","v":"3153993309329"},{"$f":"VLOOKUP(A5,[2]Sheet1!$CE$2:$CS$1539,15,FALSE)","v":{"v":211.5,"d":"211.50"}},35.25,{"$f":"VLOOKUP(A5,[1]Sheet3!$B$3:$G$145,6,FALSE)","v":82.8},{"v":41.4,"d":"41.40"},76.65]
["3153993313623",{"$f":"VLOOKUP(A6,[1]Sheet3!$B$3:$G$145,2,FALSE)","v":"云南省广播电视局安全播出监测中心"},{"$f":"VLOOKUP(A6,[1]Sheet3!$B$3:$G$145,3,FALSE)","v":"广播电视工程"},{"$f":"VLOOKUP(A6,[1]Sheet3!$B$3:$G$145,4,FALSE)","v":"15399099157001001"},{"$f":"VLOOKUP(A6,[1]Sheet3!$B$3:$G$145,1,FALSE)","v":"3153993313623"},{"$f":"VLOOKUP(A6,[2]Sheet1!$CE$2:$CS$1539,15,FALSE)","v":{"v":205,"d":"205.00"}},{"v":34.1666666666667,"d":"34.17"},{"$f":"VLOOKUP(A6,[1]Sheet3!$B$3:$G$145,6,FALSE)","v":82.2},{"v":41.1,"d":"41.10"},{"v":75.2666666666667,"d":"75.27"}]
["3153993310321",{"$f":"VLOOKUP(A7,[1]Sheet3!$B$3:$G$145,2,FALSE)","v":"云南省广播电视局安全播出监测中心"},{"$f":"VLOOKUP(A7,[1]Sheet3!$B$3:$G$145,3,FALSE)","v":"广播电视工程"},{"$f":"VLOOKUP(A7,[1]Sheet3!$B$3:$G$145,4,FALSE)","v":"15399099157001001"},{"$f":"VLOOKUP(A7,[1]Sheet3!$B$3:$G$145,1,FALSE)","v":"3153993310321"},{"$f":"VLOOKUP(A7,[2]Sheet1!$CE$2:$CS$1539,15,FALSE)","v":{"v":205,"d":"205.00"}},{"v":34.1666666666667,"d":"34.17"},{"$f":"VLOOKUP(A7,[1]Sheet3!$B$3:$G$145,6,FALSE)","v":81.6},{"v":40.8,"d":"40.80"},{"v":74.9666666666667,"d":"74.97"}]
["3153993309915",{"$f":"VLOOKUP(A8,[1]Sheet3!$B$3:$G$145,2,FALSE)","v":"云南省广播电视局安全播出监测中心"},{"$f":"VLOOKUP(A8,[1]Sheet3!$B$3:$G$145,3,FALSE)","v":"广播电视工程"},{"$f":"VLOOKUP(A8,[1]Sheet3!$B$3:$G$145,4,FALSE)","v":"15399099157001001"},{"$f":"VLOOKUP(A8,[1]Sheet3!$B$3:$G$145,1,FALSE)","v":"3153993309915"},{"$f":"VLOOKUP(A8,[2]Sheet1!$CE$2:$CS$1539,15,FALSE)","v":{"v":211,"d":"211.00"}},{"v":35.1666666666667,"d":"35.17"},{"$f":"VLOOKUP(A8,[1]Sheet3!$B$3:$G$145,6,FALSE)","v":80.6},{"v":40.3,"d":"40.30"},{"v":75.4666666666667,"d":"75.47"}]
["3153993309624",{"$f":"VLOOKUP(A9,[1]Sheet3!$B$3:$G$145,2,FALSE)","v":"云南省广播电视局安全播出监测中心"},{"$f":"VLOOKUP(A9,[1]Sheet3!$B$3:$G$145,3,FALSE)","v":"广播电视工程"},{"$f":"VLOOKUP(A9,[1]Sheet3!$B$3:$G$145,4,FALSE)","v":"15399099157001001"},{"$f":"VLOOKUP(A9,[1]Sheet3!$B$3:$G$145,1,FALSE)","v":"3153993309624"},{"$f":"VLOOKUP(A9,[2]Sheet1!$CE$2:$CS$1539,15,FALSE)","v":{"v":206,"d":"206.00"}},{"v":34.3333333333333,"d":"34.33"},{"$f":"VLOOKUP(A9,[1]Sheet3!$B$3:$G$145,6,FALSE)","v":79},{"v":39.5,"d":"39.50"},{"v":73.8333333333333,"d":"73.83"}]
["1153991503117",{"$f":"VLOOKUP(A10,[1]Sheet3!$B$3:$G$145,2,FALSE)","v":"云南省广播电视局保山702台"},{"$f":"VLOOKUP(A10,[1]Sheet3!$B$3:$G$145,3,FALSE)","v":"会计"},{"$f":"VLOOKUP(A10,[1]Sheet3!$B$3:$G$145,4,FALSE)","v":"15399099157005001"},{"$f":"VLOOKUP(A10,[1]Sheet3!$B$3:$G$145,1,FALSE)","v":"1153991503117"},{"$f":"VLOOKUP(A10,[2]Sheet1!$CE$2:$CS$1539,15,FALSE)","v":{"v":211.5,"d":"211.50"}},35.25,{"$f":"VLOOKUP(A10,[1]Sheet3!$B$3:$G$145,6,FALSE)","v":81.4},{"v":40.7,"d":"40.70"},75.95]
["1153991501121",{"$f":"VLOOKUP(A11,[1]Sheet3!$B$3:$G$145,2,FALSE)","v":"云南省广播电视局保山702台"},{"$f":"VLOOKUP(A11,[1]Sheet3!$B$3:$G$145,3,FALSE)","v":"会计"},{"$f":"VLOOKUP(A11,[1]Sheet3!$B$3:$G$145,4,FALSE)","v":"15399099157005001"},{"$f":"VLOOKUP(A11,[1]Sheet3!$B$3:$G$145,1,FALSE)","v":"1153991501121"},{"$f":"VLOOKUP(A11,[2]Sheet1!$CE$2:$CS$1539,15,FALSE)","v":{"v":203.5,"d":"203.50"}},{"v":33.9166666666667,"d":"33.92"},{"$f":"VLOOKUP(A11,[1]Sheet3!$B$3:$G$145,6,FALSE)","v":78.2},{"v":39.1,"d":"39.10"},{"v":73.0166666666667,"d":"73.02"}]
["1153991501424",{"$f":"VLOOKUP(A12,[1]Sheet3!$B$3:$G$145,2,FALSE)","v":"云南省广播电视局沧源中波台"},{"$f":"VLOOKUP(A12,[1]Sheet3!$B$3:$G$145,3,FALSE)","v":"文秘"},{"$f":"VLOOKUP(A12,[1]Sheet3!$B$3:$G$145,4,FALSE)","v":"15399099157035001"},{"$f":"VLOOKUP(A12,[1]Sheet3!$B$3:$G$145,1,FALSE)","v":"1153991501424"},{"$f":"VLOOKUP(A12,[2]Sheet1!$CE$2:$CS$1539,15,FALSE)","v":{"v":200,"d":"200.00"}},{"v":33.3333333333333,"d":"33.33"},{"$f":"VLOOKUP(A12,[1]Sheet3!$B$3:$G$145,6,FALSE)","v":82.6},{"v":41.3,"d":"41.30"},{"v":74.6333333333333,"d":"74.63"}]
["1153991503917",{"$f":"VLOOKUP(A13,[1]Sheet3!$B$3:$G$145,2,FALSE)","v":"云南省广播电视局沧源中波台"},{"$f":"VLOOKUP(A13,[1]Sheet3!$B$3:$G$145,3,FALSE)","v":"文秘"},{"$f":"VLOOKUP(A13,[1]Sheet3!$B$3:$G$145,4,FALSE)","v":"15399099157035001"},{"$f":"VLOOKUP(A13,[1]Sheet3!$B$3:$G$145,1,FALSE)","v":"1153991503917"},{"$f":"VLOOKUP(A13,[2]Sheet1!$CE$2:$CS$1539,15,FALSE)","v":{"v":191,"d":"191.00"}},{"v":31.8333333333333,"d":"31.83"},{"$f":"VLOOKUP(A13,[1]Sheet3!$B$3:$G$145,6,FALSE)","v":79.7},39.85,{"v":71.6833333333333,"d":"71.68"}]
["3153993208511",{"$f":"VLOOKUP(A14,[1]Sheet3!$B$3:$G$145,2,FALSE)","v":"云南省广播电视局沧源中波台"},{"$f":"VLOOKUP(A14,[1]Sheet3!$B$3:$G$145,3,FALSE)","v":"广播电视工程"},{"$f":"VLOOKUP(A14,[1]Sheet3!$B$3:$G$145,4,FALSE)","v":"15399099157035002"},{"$f":"VLOOKUP(A14,[1]Sheet3!$B$3:$G$145,1,FALSE)","v":"3153993208511"},{"$f":"VLOOKUP(A14,[2]Sheet1!$CE$2:$CS$1539,15,FALSE)","v":{"v":157,"d":"157.00"}},{"v":26.1666666666667,"d":"26.17"},{"$f":"VLOOKUP(A14,[1]Sheet3!$B$3:$G$145,6,FALSE)","v":81},{"v":40.5,"d":"40.50"},{"v":66.6666666666667,"d":"66.67"}]
["3153993207402",{"$f":"VLOOKUP(A15,[1]Sheet3!$B$3:$G$145,2,FALSE)","v":"云南省广播电视局沧源中波台"},{"$f":"VLOOKUP(A15,[1]Sheet3!$B$3:$G$145,3,FALSE)","v":"广播电视工程"},{"$f":"VLOOKUP(A15,[1]Sheet3!$B$3:$G$145,4,FALSE)","v":"15399099157035002"},{"$f":"VLOOKUP(A15,[1]Sheet3!$B$3:$G$145,1,FALSE)","v":"3153993207402"},{"$f":"VLOOKUP(A15,[2]Sheet1!$CE$2:$CS$1539,15,FALSE)","v":{"v":156.5,"d":"156.50"}},{"v":26.0833333333333,"d":"26.08"},{"$f":"VLOOKUP(A15,[1]Sheet3!$B$3:$G$145,6,FALSE)","v":77.8},{"v":38.9,"d":"38.90"},{"v":64.9833333333333,"d":"64.98"}]
["1153991503422",{"$f":"VLOOKUP(A16,[1]Sheet3!$B$3:$G$145,2,FALSE)","v":"云南省广播电视局大理实验台"},{"$f":"VLOOKUP(A16,[1]Sheet3!$B$3:$G$145,3,FALSE)","v":"会计"},{"$f":"VLOOKUP(A16,[1]Sheet3!$B$3:$G$145,4,FALSE)","v":"15399099157012001"},{"$f":"VLOOKUP(A16,[1]Sheet3!$B$3:$G$145,1,FALSE)","v":"1153991503422"},{"$f":"VLOOKUP(A16,[2]Sheet1!$CE$2:$CS$1539,15,FALSE)","v":{"v":208,"d":"208.00"}},{"v":34.6666666666667,"d":"34.67"},{"$f":"VLOOKUP(A16,[1]Sheet3!$B$3:$G$145,6,FALSE)","v":79.2},{"v":39.6,"d":"39.60"},{"v":74.2666666666667,"d":"74.27"}]
["1153991501928",{"$f":"VLOOKUP(A17,[1]Sheet3!$B$3:$G$145,2,FALSE)","v":"云南省广播电视局大理实验台"},{"$f":"VLOOKUP(A17,[1]Sheet3!$B$3:$G$145,3,FALSE)","v":"会计"},{"$f":"VLOOKUP(A17,[1]Sheet3!$B$3:$G$145,4,FALSE)","v":"15399099157012001"},{"$f":"VLOOKUP(A17,[1]Sheet3!$B$3:$G$145,1,FALSE)","v":"1153991501928"},{"$f":"VLOOKUP(A17,[2]Sheet1!$CE$2:$CS$1539,15,FALSE)","v":{"v":207.5,"d":"207.50"}},{"v":34.5833333333333,"d":"34.58"},{"$f":"VLOOKUP(A17,[1]Sheet3!$B$3:$G$145,6,FALSE)","v":78.04},39.02,{"v":73.6033333333333,"d":"73.60"}]
["1153991502818",{"$f":"VLOOKUP(A18,[1]Sheet3!$B$3:$G$145,2,FALSE)","v":"云南省广播电视局德宏705台"},{"$f":"VLOOKUP(A18,[1]Sheet3!$B$3:$G$145,3,FALSE)","v":"会计"},{"$f":"VLOOKUP(A18,[1]Sheet3!$B$3:$G$145,4,FALSE)","v":"15399099157006001"},{"$f":"VLOOKUP(A18,[1]Sheet3!$B$3:$G$145,1,FALSE)","v":"1153991502818"},{"$f":"VLOOKUP(A18,[2]Sheet1!$CE$2:$CS$1539,15,FALSE)","v":{"v":204,"d":"204.00"}},{"v":34,"d":"34.00"},{"$f":"VLOOKUP(A18,[1]Sheet3!$B$3:$G$145,6,FALSE)","v":79.8},{"v":39.9,"d":"39.90"},{"v":73.9,"d":"73.90"}]
["1153991500926",{"$f":"VLOOKUP(A19,[1]Sheet3!$B$3:$G$145,2,FALSE)","v":"云南省广播电视局德宏705台"},{"$f":"VLOOKUP(A19,[1]Sheet3!$B$3:$G$145,3,FALSE)","v":"会计"},{"$f":"VLOOKUP(A19,[1]Sheet3!$B$3:$G$145,4,FALSE)","v":"15399099157006001"},{"$f":"VLOOKUP(A19,[1]Sheet3!$B$3:$G$145,1,FALSE)","v":"1153991500926"},{"$f":"VLOOKUP(A19,[2]Sheet1!$CE$2:$CS$1539,15,FALSE)","v":{"v":201.5,"d":"201.50"}},{"v":33.5833333333333,"d":"33.58"},{"$f":"VLOOKUP(A19,[1]Sheet3!$B$3:$G$145,6,FALSE)","v":77.3},38.65,{"v":72.2333333333333,"d":"72.23"}]
["1153991502430",{"$f":"VLOOKUP(A20,[1]Sheet3!$B$3:$G$145,2,FALSE)","v":"云南省广播电视局迪庆实验台"},{"$f":"VLOOKUP(A20,[1]Sheet3!$B$3:$G$145,3,FALSE)","v":"文秘"},{"$f":"VLOOKUP(A20,[1]Sheet3!$B$3:$G$145,4,FALSE)","v":"15399099157011001"},{"$f":"VLOOKUP(A20,[1]Sheet3!$B$3:$G$145,1,FALSE)","v":"1153991502430"},{"$f":"VLOOKUP(A20,[2]Sheet1!$CE$2:$CS$1539,15,FALSE)","v":{"v":204,"d":"204.00"}},{"v":34,"d":"34.00"},{"$f":"VLOOKUP(A20,[1]Sheet3!$B$3:$G$145,6,FALSE)","v":85.2},{"v":42.6,"d":"42.60"},{"v":76.6,"d":"76.60"}]
["1153991505711",{"$f":"VLOOKUP(A21,[1]Sheet3!$B$3:$G$145,2,FALSE)","v":"云南省广播电视局迪庆实验台"},{"$f":"VLOOKUP(A21,[1]Sheet3!$B$3:$G$145,3,FALSE)","v":"文秘"},{"$f":"VLOOKUP(A21,[1]Sheet3!$B$3:$G$145,4,FALSE)","v":"15399099157011001"},{"$f":"VLOOKUP(A21,[1]Sheet3!$B$3:$G$145,1,FALSE)","v":"1153991505711"},{"$f":"VLOOKUP(A21,[2]Sheet1!$CE$2:$CS$1539,15,FALSE)","v":{"v":209,"d":"209.00"}},{"v":34.8333333333333,"d":"34.83"},{"$f":"VLOOKUP(A21,[1]Sheet3!$B$3:$G$145,6,FALSE)","v":80},{"v":40,"d":"40.00"},{"v":74.8333333333333,"d":"74.83"}]
["3153993204216",{"$f":"VLOOKUP(A22,[1]Sheet3!$B$3:$G$145,2,FALSE)","v":"云南省广播电视局迪庆实验台"},{"$f":"VLOOKUP(A22,[1]Sheet3!$B$3:$G$145,3,FALSE)","v":"广播电视工程"},{"$f":"VLOOKUP(A22,[1]Sheet3!$B$3:$G$145,4,FALSE)","v":"15399099157011002"},{"$f":"VLOOKUP(A22,[1]Sheet3!$B$3:$G$145,1,FALSE)","v":"3153993204216"},{"$f":"VLOOKUP(A22,[2]Sheet1!$CE$2:$CS$1539,15,FALSE)","v":{"v":150,"d":"150.00"}},{"v":25,"d":"25.00"},{"$f":"VLOOKUP(A22,[1]Sheet3!$B$3:$G$145,6,FALSE)","v":80.6},{"v":40.3,"d":"40.30"},{"v":65.3,"d":"65.30"}]
["3153993207816",{"$f":"VLOOKUP(A23,[1]Sheet3!$B$3:$G$145,2,FALSE)","v":"云南省广播电视局迪庆实验台"},{"$f":"VLOOKUP(A23,[1]Sheet3!$B$3:$G$145,3,FALSE)","v":"广播电视工程"},{"$f":"VLOOKUP(A23,[1]Sheet3!$B$3:$G$145,4,FALSE)","v":"15399099157011002"},{"$f":"VLOOKUP(A23,[1]Sheet3!$B$3:$G$145,1,FALSE)","v":"3153993207816"},{"$f":"VLOOKUP(A23,[2]Sheet1!$CE$2:$CS$1539,15,FALSE)","v":{"v":134.5,"d":"134.50"}},{"v":22.4166666666667,"d":"22.42"},{"$f":"VLOOKUP(A23,[1]Sheet3!$B$3:$G$145,6,FALSE)","v":79.4},{"v":39.7,"d":"39.70"},{"v":62.1166666666667,"d":"62.12"}]
["1153991500322",{"$f":"VLOOKUP(A24,[1]Sheet3!$B$3:$G$145,2,FALSE)","v":"云南省广播电视局迪庆中波台"},{"$f":"VLOOKUP(A24,[1]Sheet3!$B$3:$G$145,3,FALSE)","v":"会计"},{"$f":"VLOOKUP(A24,[1]Sheet3!$B$3:$G$145,4,FALSE)","v":"15399099157009001"},{"$f":"VLOOKUP(A24,[1]Sheet3!$B$3:$G$145,1,FALSE)","v":"1153991500322"},{"$f":"VLOOKUP(A24,[2]Sheet1!$CE$2:$CS$1539,15,FALSE)","v":{"v":198.5,"d":"198.50"}},{"v":33.0833333333333,"d":"33.08"},{"$f":"VLOOKUP(A24,[1]Sheet3!$B$3:$G$145,6,FALSE)","v":82.2},{"v":41.1,"d":"41.10"},{"v":74.1833333333333,"d":"74.18"}]
["1153991505807",{"$f":"VLOOKUP(A25,[1]Sheet3!$B$3:$G$145,2,FALSE)","v":"云南省广播电视局迪庆中波台"},{"$f":"VLOOKUP(A25,[1]Sheet3!$B$3:$G$145,3,FALSE)","v":"会计"},{"$f":"VLOOKUP(A25,[1]Sheet3!$B$3:$G$145,4,FALSE)","v":"15399099157009001"},{"$f":"VLOOKUP(A25,[1]Sheet3!$B$3:$G$145,1,FALSE)","v":"1153991505807"},{"$f":"VLOOKUP(A25,[2]Sheet1!$CE$2:$CS$1539,15,FALSE)","v":{"v":209,"d":"209.00"}},{"v":34.8333333333333,"d":"34.83"},{"$f":"VLOOKUP(A25,[1]Sheet3!$B$3:$G$145,6,FALSE)","v":79.1},39.55,{"v":74.3833333333333,"d":"74.38"}]
["1153991504306",{"$f":"VLOOKUP(A26,[1]Sheet3!$B$3:$G$145,2,FALSE)","v":"云南省广播电视局迪庆中波台"},{"$f":"VLOOKUP(A26,[1]Sheet3!$B$3:$G$145,3,FALSE)","v":"文秘"},{"$f":"VLOOKUP(A26,[1]Sheet3!$B$3:$G$145,4,FALSE)","v":"15399099157009002"},{"$f":"VLOOKUP(A26,[1]Sheet3!$B$3:$G$145,1,FALSE)","v":"1153991504306"},{"$f":"VLOOKUP(A26,[2]Sheet1!$CE$2:$CS$1539,15,FALSE)","v":{"v":206.5,"d":"206.50"}},{"v":34.4166666666667,"d":"34.42"},{"$f":"VLOOKUP(A26,[1]Sheet3!$B$3:$G$145,6,FALSE)","v":82.3},41.15,{"v":75.5666666666667,"d":"75.57"}]
["1153991505127",{"$f":"VLOOKUP(A27,[1]Sheet3!$B$3:$G$145,2,FALSE)","v":"云南省广播电视局福贡中波台"},{"$f":"VLOOKUP(A27,[1]Sheet3!$B$3:$G$145,3,FALSE)","v":"会计"},{"$f":"VLOOKUP(A27,[1]Sheet3!$B$3:$G$145,4,FALSE)","v":"15399099157033001"},{"$f":"VLOOKUP(A27,[1]Sheet3!$B$3:$G$145,1,FALSE)","v":"1153991505127"},{"$f":"VLOOKUP(A27,[2]Sheet1!$CE$2:$CS$1539,15,FALSE)","v":{"v":180.5,"d":"180.50"}},{"v":30.0833333333333,"d":"30.08"},{"$f":"VLOOKUP(A27,[1]Sheet3!$B$3:$G$145,6,FALSE)","v":78.3},39.15,{"v":69.2333333333333,"d":"69.23"}]
["1153991505730",{"$f":"VLOOKUP(A28,[1]Sheet3!$B$3:$G$145,2,FALSE)","v":"云南省广播电视局福贡中波台"},{"$f":"VLOOKUP(A28,[1]Sheet3!$B$3:$G$145,3,FALSE)","v":"会计"},{"$f":"VLOOKUP(A28,[1]Sheet3!$B$3:$G$145,4,FALSE)","v":"15399099157033001"},{"$f":"VLOOKUP(A28,[1]Sheet3!$B$3:$G$145,1,FALSE)","v":"1153991505730"},{"$f":"VLOOKUP(A28,[2]Sheet1!$CE$2:$CS$1539,15,FALSE)","v":{"v":169.5,"d":"169.50"}},28.25,{"$f":"VLOOKUP(A28,[1]Sheet3!$B$3:$G$145,6,FALSE)","v":76.2},{"v":38.1,"d":"38.10"},66.35]
["1153991500815",{"$f":"VLOOKUP(A29,[1]Sheet3!$B$3:$G$145,2,FALSE)","v":"云南省广播电视局福贡中波台"},{"$f":"VLOOKUP(A29,[1]Sheet3!$B$3:$G$145,3,FALSE)","v":"文秘"},{"$f":"VLOOKUP(A29,[1]Sheet3!$B$3:$G$145,4,FALSE)","v":"15399099157033002"},{"$f":"VLOOKUP(A29,[1]Sheet3!$B$3:$G$145,1,FALSE)","v":"1153991500815"},{"$f":"VLOOKUP(A29,[2]Sheet1!$CE$2:$CS$1539,15,FALSE)","v":{"v":152,"d":"152.00"}},{"v":25.3333333333333,"d":"25.33"},{"$f":"VLOOKUP(A29,[1]Sheet3!$B$3:$G$145,6,FALSE)","v":80},{"v":40,"d":"40.00"},{"v":65.3333333333333,"d":"65.33"}]
["1153991501820",{"$f":"VLOOKUP(A30,[1]Sheet3!$B$3:$G$145,2,FALSE)","v":"云南省广播电视局福贡中波台"},{"$f":"VLOOKUP(A30,[1]Sheet3!$B$3:$G$145,3,FALSE)","v":"文秘"},{"$f":"VLOOKUP(A30,[1]Sheet3!$B$3:$G$145,4,FALSE)","v":"15399099157033002"},{"$f":"VLOOKUP(A30,[1]Sheet3!$B$3:$G$145,1,FALSE)","v":"1153991501820"},{"$f":"VLOOKUP(A30,[2]Sheet1!$CE$2:$CS$1539,15,FALSE)","v":{"v":136.5,"d":"136.50"}},22.75,{"$f":"VLOOKUP(A30,[1]Sheet3!$B$3:$G$145,6,FALSE)","v":77.7},38.85,{"v":61.6,"d":"61.60"}]
["3153993208104",{"$f":"VLOOKUP(A31,[1]Sheet3!$B$3:$G$145,2,FALSE)","v":"云南省广播电视局福贡中波台"},{"$f":"VLOOKUP(A31,[1]Sheet3!$B$3:$G$145,3,FALSE)","v":"广播电视工程"},{"$f":"VLOOKUP(A31,[1]Sheet3!$B$3:$G$145,4,FALSE)","v":"15399099157033003"},{"$f":"VLOOKUP(A31,[1]Sheet3!$B$3:$G$145,1,FALSE)","v":"3153993208104"},{"$f":"VLOOKUP(A31,[2]Sheet1!$CE$2:$CS$1539,15,FALSE)","v":{"v":120,"d":"120.00"}},{"v":20,"d":"20.00"},{"$f":"VLOOKUP(A31,[1]Sheet3!$B$3:$G$145,6,FALSE)","v":77.8},{"v":38.9,"d":"38.90"},{"v":58.9,"d":"58.90"}]
["1153991504101",{"$f":"VLOOKUP(A32,[1]Sheet3!$B$3:$G$145,2,FALSE)","v":"云南省广播电视局富宁中波台"},{"$f":"VLOOKUP(A32,[1]Sheet3!$B$3:$G$145,3,FALSE)","v":"文秘"},{"$f":"VLOOKUP(A32,[1]Sheet3!$B$3:$G$145,4,FALSE)","v":"15399099157021001"},{"$f":"VLOOKUP(A32,[1]Sheet3!$B$3:$G$145,1,FALSE)","v":"1153991504101"},{"$f":"VLOOKUP(A32,[2]Sheet1!$CE$2:$CS$1539,15,FALSE)","v":{"v":205.5,"d":"205.50"}},34.25,{"$f":"VLOOKUP(A32,[1]Sheet3!$B$3:$G$145,6,FALSE)","v":81.8},{"v":40.9,"d":"40.90"},75.15]
["1153991502622",{"$f":"VLOOKUP(A33,[1]Sheet3!$B$3:$G$145,2,FALSE)","v":"云南省广播电视局富宁中波台"},{"$f":"VLOOKUP(A33,[1]Sheet3!$B$3:$G$145,3,FALSE)","v":"文秘"},{"$f":"VLOOKUP(A33,[1]Sheet3!$B$3:$G$145,4,FALSE)","v":"15399099157021001"},{"$f":"VLOOKUP(A33,[1]Sheet3!$B$3:$G$145,1,FALSE)","v":"1153991502622"},{"$f":"VLOOKUP(A33,[2]Sheet1!$CE$2:$CS$1539,15,FALSE)","v":{"v":193,"d":"193.00"}},{"v":32.1666666666667,"d":"32.17"},{"$f":"VLOOKUP(A33,[1]Sheet3!$B$3:$G$145,6,FALSE)","v":79.4},{"v":39.7,"d":"39.70"},{"v":71.8666666666667,"d":"71.87"}]
["3153993204811",{"$f":"VLOOKUP(A34,[1]Sheet3!$B$3:$G$145,2,FALSE)","v":"云南省广播电视局富宁中波台"},{"$f":"VLOOKUP(A34,[1]Sheet3!$B$3:$G$145,3,FALSE)","v":"广播电视工程"},{"$f":"VLOOKUP(A34,[1]Sheet3!$B$3:$G$145,4,FALSE)","v":"15399099157021002"},{"$f":"VLOOKUP(A34,[1]Sheet3!$B$3:$G$145,1,FALSE)","v":"3153993204811"},{"$f":"VLOOKUP(A34,[2]Sheet1!$CE$2:$CS$1539,15,FALSE)","v":{"v":191,"d":"191.00"}},{"v":31.8333333333333,"d":"31.83"},{"$f":"VLOOKUP(A34,[1]Sheet3!$B$3:$G$145,6,FALSE)","v":81},{"v":40.5,"d":"40.50"},{"v":72.3333333333333,"d":"72.33"}]
["3153993208519",{"$f":"VLOOKUP(A35,[1]Sheet3!$B$3:$G$145,2,FALSE)","v":"云南省广播电视局富宁中波台"},{"$f":"VLOOKUP(A35,[1]Sheet3!$B$3:$G$145,3,FALSE)","v":"广播电视工程"},{"$f":"VLOOKUP(A35,[1]Sheet3!$B$3:$G$145,4,FALSE)","v":"15399099157021002"},{"$f":"VLOOKUP(A35,[1]Sheet3!$B$3:$G$145,1,FALSE)","v":"3153993208519"},{"$f":"VLOOKUP(A35,[2]Sheet1!$CE$2:$CS$1539,15,FALSE)","v":{"v":145,"d":"145.00"}},{"v":24.1666666666667,"d":"24.17"},{"$f":"VLOOKUP(A35,[1]Sheet3!$B$3:$G$145,6,FALSE)","v":79.8},{"v":39.9,"d":"39.90"},{"v":64.0666666666667,"d":"64.07"}]
["3153993204308",{"$f":"VLOOKUP(A36,[1]Sheet3!$B$3:$G$145,2,FALSE)","v":"云南省广播电视局贡山中波台"},{"$f":"VLOOKUP(A36,[1]Sheet3!$B$3:$G$145,3,FALSE)","v":"广播电视工程"},{"$f":"VLOOKUP(A36,[1]Sheet3!$B$3:$G$145,4,FALSE)","v":"15399099157034001"},{"$f":"VLOOKUP(A36,[1]Sheet3!$B$3:$G$145,1,FALSE)","v":"3153993204308"},{"$f":"VLOOKUP(A36,[2]Sheet1!$CE$2:$CS$1539,15,FALSE)","v":{"v":133,"d":"133.00"}},{"v":22.1666666666667,"d":"22.17"},{"$f":"VLOOKUP(A36,[1]Sheet3!$B$3:$G$145,6,FALSE)","v":77.8},{"v":38.9,"d":"38.90"},{"v":61.0666666666667,"d":"61.07"}]
["1153991500414",{"$f":"VLOOKUP(A37,[1]Sheet3!$B$3:$G$145,2,FALSE)","v":"云南省广播电视局河口中波台"},{"$f":"VLOOKUP(A37,[1]Sheet3!$B$3:$G$145,3,FALSE)","v":"文秘"},{"$f":"VLOOKUP(A37,[1]Sheet3!$B$3:$G$145,4,FALSE)","v":"15399099157017001"},{"$f":"VLOOKUP(A37,[1]Sheet3!$B$3:$G$145,1,FALSE)","v":"1153991500414"},{"$f":"VLOOKUP(A37,[2]Sheet1!$CE$2:$CS$1539,15,FALSE)","v":{"v":183,"d":"183.00"}},{"v":30.5,"d":"30.50"},{"$f":"VLOOKUP(A37,[1]Sheet3!$B$3:$G$145,6,FALSE)","v":77.9},38.95,69.45]
["1153991503910",{"$f":"VLOOKUP(A38,[1]Sheet3!$B$3:$G$145,2,FALSE)","v":"云南省广播电视局河口中波台"},{"$f":"VLOOKUP(A38,[1]Sheet3!$B$3:$G$145,3,FALSE)","v":"文秘"},{"$f":"VLOOKUP(A38,[1]Sheet3!$B$3:$G$145,4,FALSE)","v":"15399099157017001"},{"$f":"VLOOKUP(A38,[1]Sheet3!$B$3:$G$145,1,FALSE)","v":"1153991503910"},{"$f":"VLOOKUP(A38,[2]Sheet1!$CE$2:$CS$1539,15,FALSE)","v":{"v":168.5,"d":"168.50"}},{"v":28.0833333333333,"d":"28.08"},{"$f":"VLOOKUP(A38,[1]Sheet3!$B$3:$G$145,6,FALSE)","v":0},{"v":0,"d":"0.00"},{"v":28.0833333333333,"d":"28.08"}]
["3153993205426",{"$f":"VLOOKUP(A39,[1]Sheet3!$B$3:$G$145,2,FALSE)","v":"云南省广播电视局河口中波台"},{"$f":"VLOOKUP(A39,[1]Sheet3!$B$3:$G$145,3,FALSE)","v":"广播电视工程"},{"$f":"VLOOKUP(A39,[1]Sheet3!$B$3:$G$145,4,FALSE)","v":"15399099157017002"},{"$f":"VLOOKUP(A39,[1]Sheet3!$B$3:$G$145,1,FALSE)","v":"3153993205426"},{"$f":"VLOOKUP(A39,[2]Sheet1!$CE$2:$CS$1539,15,FALSE)","v":{"v":173,"d":"173.00"}},{"v":28.8333333333333,"d":"28.83"},{"$f":"VLOOKUP(A39,[1]Sheet3!$B$3:$G$145,6,FALSE)","v":82.8},{"v":41.4,"d":"41.40"},{"v":70.2333333333333,"d":"70.23"}]
["3153993208317",{"$f":"VLOOKUP(A40,[1]Sheet3!$B$3:$G$145,2,FALSE)","v":"云南省广播电视局河口中波台"},{"$f":"VLOOKUP(A40,[1]Sheet3!$B$3:$G$145,3,FALSE)","v":"广播电视工程"},{"$f":"VLOOKUP(A40,[1]Sheet3!$B$3:$G$145,4,FALSE)","v":"15399099157017002"},{"$f":"VLOOKUP(A40,[1]Sheet3!$B$3:$G$145,1,FALSE)","v":"3153993208317"},{"$f":"VLOOKUP(A40,[2]Sheet1!$CE$2:$CS$1539,15,FALSE)","v":{"v":181.5,"d":"181.50"}},30.25,{"$f":"VLOOKUP(A40,[1]Sheet3!$B$3:$G$145,6,FALSE)","v":82.8},{"v":41.4,"d":"41.40"},71.65]
["1153991502808",{"$f":"VLOOKUP(A41,[1]Sheet3!$B$3:$G$145,2,FALSE)","v":"云南省广播电视局江城中波台"},{"$f":"VLOOKUP(A41,[1]Sheet3!$B$3:$G$145,3,FALSE)","v":"文秘"},{"$f":"VLOOKUP(A41,[1]Sheet3!$B$3:$G$145,4,FALSE)","v":"15399099157024001"},{"$f":"VLOOKUP(A41,[1]Sheet3!$B$3:$G$145,1,FALSE)","v":"1153991502808"},{"$f":"VLOOKUP(A41,[2]Sheet1!$CE$2:$CS$1539,15,FALSE)","v":{"v":209,"d":"209.00"}},{"v":34.8333333333333,"d":"34.83"},{"$f":"VLOOKUP(A41,[1]Sheet3!$B$3:$G$145,6,FALSE)","v":81.2},{"v":40.6,"d":"40.60"},{"v":75.4333333333333,"d":"75.43"}]
["1153991503415",{"$f":"VLOOKUP(A42,[1]Sheet3!$B$3:$G$145,2,FALSE)","v":"云南省广播电视局江城中波台"},{"$f":"VLOOKUP(A42,[1]Sheet3!$B$3:$G$145,3,FALSE)","v":"文秘"},{"$f":"VLOOKUP(A42,[1]Sheet3!$B$3:$G$145,4,FALSE)","v":"15399099157024001"},{"$f":"VLOOKUP(A42,[1]Sheet3!$B$3:$G$145,1,FALSE)","v":"1153991503415"},{"$f":"VLOOKUP(A42,[2]Sheet1!$CE$2:$CS$1539,15,FALSE)","v":{"v":173,"d":"173.00"}},{"v":28.8333333333333,"d":"28.83"},{"$f":"VLOOKUP(A42,[1]Sheet3!$B$3:$G$145,6,FALSE)","v":75.2},{"v":37.6,"d":"37.60"},{"v":66.4333333333333,"d":"66.43"}]
["1153991505003",{"$f":"VLOOKUP(A43,[1]Sheet3!$B$3:$G$145,2,FALSE)","v":"云南省广播电视局金平中波台"},{"$f":"VLOOKUP(A43,[1]Sheet3!$B$3:$G$145,3,FALSE)","v":"会计"},{"$f":"VLOOKUP(A43,[1]Sheet3!$B$3:$G$145,4,FALSE)","v":"15399099157016001"},{"$f":"VLOOKUP(A43,[1]Sheet3!$B$3:$G$145,1,FALSE)","v":"1153991505003"},{"$f":"VLOOKUP(A43,[2]Sheet1!$CE$2:$CS$1539,15,FALSE)","v":{"v":214,"d":"214.00"}},{"v":35.6666666666667,"d":"35.67"},{"$f":"VLOOKUP(A43,[1]Sheet3!$B$3:$G$145,6,FALSE)","v":79.4},{"v":39.7,"d":"39.70"},{"v":75.3666666666667,"d":"75.37"}]
["1153991505109",{"$f":"VLOOKUP(A44,[1]Sheet3!$B$3:$G$145,2,FALSE)","v":"云南省广播电视局金平中波台"},{"$f":"VLOOKUP(A44,[1]Sheet3!$B$3:$G$145,3,FALSE)","v":"会计"},{"$f":"VLOOKUP(A44,[1]Sheet3!$B$3:$G$145,4,FALSE)","v":"15399099157016001"},{"$f":"VLOOKUP(A44,[1]Sheet3!$B$3:$G$145,1,FALSE)","v":"1153991505109"},{"$f":"VLOOKUP(A44,[2]Sheet1!$CE$2:$CS$1539,15,FALSE)","v":{"v":193,"d":"193.00"}},{"v":32.1666666666667,"d":"32.17"},{"$f":"VLOOKUP(A44,[1]Sheet3!$B$3:$G$145,6,FALSE)","v":79.4},{"v":39.7,"d":"39.70"},{"v":71.8666666666667,"d":"71.87"}]
["1153991503409",{"$f":"VLOOKUP(A45,[1]Sheet3!$B$3:$G$145,2,FALSE)","v":"云南省广播电视局金平中波台"},{"$f":"VLOOKUP(A45,[1]Sheet3!$B$3:$G$145,3,FALSE)","v":"文秘"},{"$f":"VLOOKUP(A45,[1]Sheet3!$B$3:$G$145,4,FALSE)","v":"15399099157016002"},{"$f":"VLOOKUP(A45,[1]Sheet3!$B$3:$G$145,1,FALSE)","v":"1153991503409"},{"$f":"VLOOKUP(A45,[2]Sheet1!$CE$2:$CS$1539,15,FALSE)","v":{"v":185.5,"d":"185.50"}},{"v":30.9166666666667,"d":"30.92"},{"$f":"VLOOKUP(A45,[1]Sheet3!$B$3:$G$145,6,FALSE)","v":80},{"v":40,"d":"40.00"},{"v":70.9166666666667,"d":"70.92"}]
["1153991503630",{"$f":"VLOOKUP(A46,[1]Sheet3!$B$3:$G$145,2,FALSE)","v":"云南省广播电视局金平中波台"},{"$f":"VLOOKUP(A46,[1]Sheet3!$B$3:$G$145,3,FALSE)","v":"文秘"},{"$f":"VLOOKUP(A46,[1]Sheet3!$B$3:$G$145,4,FALSE)","v":"15399099157016002"},{"$f":"VLOOKUP(A46,[1]Sheet3!$B$3:$G$145,1,FALSE)","v":"1153991503630"},{"$f":"VLOOKUP(A46,[2]Sheet1!$CE$2:$CS$1539,15,FALSE)","v":{"v":176,"d":"176.00"}},{"v":29.3333333333333,"d":"29.33"},{"$f":"VLOOKUP(A46,[1]Sheet3!$B$3:$G$145,6,FALSE)","v":78.5},39.25,{"v":68.5833333333333,"d":"68.58"}]
["1153991500219",{"$f":"VLOOKUP(A47,[1]Sheet3!$B$3:$G$145,2,FALSE)","v":"云南省广播电视局景东695台"},{"$f":"VLOOKUP(A47,[1]Sheet3!$B$3:$G$145,3,FALSE)","v":"文秘"},{"$f":"VLOOKUP(A47,[1]Sheet3!$B$3:$G$145,4,FALSE)","v":"15399099157023001"},{"$f":"VLOOKUP(A47,[1]Sheet3!$B$3:$G$145,1,FALSE)","v":"1153991500219"},{"$f":"VLOOKUP(A47,[2]Sheet1!$CE$2:$CS$1539,15,FALSE)","v":{"v":202.5,"d":"202.50"}},33.75,{"$f":"VLOOKUP(A47,[1]Sheet3!$B$3:$G$145,6,FALSE)","v":82},{"v":41,"d":"41.00"},74.75]
["1153991502001",{"$f":"VLOOKUP(A48,[1]Sheet3!$B$3:$G$145,2,FALSE)","v":"云南省广播电视局景东695台"},{"$f":"VLOOKUP(A48,[1]Sheet3!$B$3:$G$145,3,FALSE)","v":"文秘"},{"$f":"VLOOKUP(A48,[1]Sheet3!$B$3:$G$145,4,FALSE)","v":"15399099157023001"},{"$f":"VLOOKUP(A48,[1]Sheet3!$B$3:$G$145,1,FALSE)","v":"1153991502001"},{"$f":"VLOOKUP(A48,[2]Sheet1!$CE$2:$CS$1539,15,FALSE)","v":{"v":198,"d":"198.00"}},{"v":33,"d":"33.00"},{"$f":"VLOOKUP(A48,[1]Sheet3!$B$3:$G$145,6,FALSE)","v":78.4},{"v":39.2,"d":"39.20"},{"v":72.2,"d":"72.20"}]
["1153991505618",{"$f":"VLOOKUP(A49,[1]Sheet3!$B$3:$G$145,2,FALSE)","v":"云南省广播电视局开远实验台"},{"$f":"VLOOKUP(A49,[1]Sheet3!$B$3:$G$145,3,FALSE)","v":"文秘"},{"$f":"VLOOKUP(A49,[1]Sheet3!$B$3:$G$145,4,FALSE)","v":"15399099157013001"},{"$f":"VLOOKUP(A49,[1]Sheet3!$B$3:$G$145,1,FALSE)","v":"1153991505618"},{"$f":"VLOOKUP(A49,[2]Sheet1!$CE$2:$CS$1539,15,FALSE)","v":{"v":210.5,"d":"210.50"}},{"v":35.0833333333333,"d":"35.08"},{"$f":"VLOOKUP(A49,[1]Sheet3!$B$3:$G$145,6,FALSE)","v":79.9},39.95,{"v":75.0333333333333,"d":"75.03"}]
["1153991502010",{"$f":"VLOOKUP(A50,[1]Sheet3!$B$3:$G$145,2,FALSE)","v":"云南省广播电视局开远实验台"},{"$f":"VLOOKUP(A50,[1]Sheet3!$B$3:$G$145,3,FALSE)","v":"文秘"},{"$f":"VLOOKUP(A50,[1]Sheet3!$B$3:$G$145,4,FALSE)","v":"15399099157013001"},{"$f":"VLOOKUP(A50,[1]Sheet3!$B$3:$G$145,1,FALSE)","v":"1153991502010"},{"$f":"VLOOKUP(A50,[2]Sheet1!$CE$2:$CS$1539,15,FALSE)","v":{"v":198,"d":"198.00"}},{"v":33,"d":"33.00"},{"$f":"VLOOKUP(A50,[1]Sheet3!$B$3:$G$145,6,FALSE)","v":78.8},{"v":39.4,"d":"39.40"},{"v":72.4,"d":"72.40"}]
["1153991502109",{"$f":"VLOOKUP(A51,[1]Sheet3!$B$3:$G$145,2,FALSE)","v":"云南省广播电视局澜沧中波台"},{"$f":"VLOOKUP(A51,[1]Sheet3!$B$3:$G$145,3,FALSE)","v":"会计"},{"$f":"VLOOKUP(A51,[1]Sheet3!$B$3:$G$145,4,FALSE)","v":"15399099157026001"},{"$f":"VLOOKUP(A51,[1]Sheet3!$B$3:$G$145,1,FALSE)","v":"1153991502109"},{"$f":"VLOOKUP(A51,[2]Sheet1!$CE$2:$CS$1539,15,FALSE)","v":{"v":209.5,"d":"209.50"}},{"v":34.9166666666667,"d":"34.92"},{"$f":"VLOOKUP(A51,[1]Sheet3!$B$3:$G$145,6,FALSE)","v":80.1},40.05,{"v":74.9666666666667,"d":"74.97"}]
["1153991502101",{"$f":"VLOOKUP(A52,[1]Sheet3!$B$3:$G$145,2,FALSE)","v":"云南省广播电视局澜沧中波台"},{"$f":"VLOOKUP(A52,[1]Sheet3!$B$3:$G$145,3,FALSE)","v":"会计"},{"$f":"VLOOKUP(A52,[1]Sheet3!$B$3:$G$145,4,FALSE)","v":"15399099157026001"},{"$f":"VLOOKUP(A52,[1]Sheet3!$B$3:$G$145,1,FALSE)","v":"1153991502101"},{"$f":"VLOOKUP(A52,[2]Sheet1!$CE$2:$CS$1539,15,FALSE)","v":{"v":198.5,"d":"198.50"}},{"v":33.0833333333333,"d":"33.08"},{"$f":"VLOOKUP(A52,[1]Sheet3!$B$3:$G$145,6,FALSE)","v":74.7},37.35,{"v":70.4333333333333,"d":"70.43"}]
["1153991505402",{"$f":"VLOOKUP(A53,[1]Sheet3!$B$3:$G$145,2,FALSE)","v":"云南省广播电视局澜沧中波台"},{"$f":"VLOOKUP(A53,[1]Sheet3!$B$3:$G$145,3,FALSE)","v":"文秘"},{"$f":"VLOOKUP(A53,[1]Sheet3!$B$3:$G$145,4,FALSE)","v":"15399099157026002"},{"$f":"VLOOKUP(A53,[1]Sheet3!$B$3:$G$145,1,FALSE)","v":"1153991505402"},{"$f":"VLOOKUP(A53,[2]Sheet1!$CE$2:$CS$1539,15,FALSE)","v":{"v":202,"d":"202.00"}},{"v":33.6666666666667,"d":"33.67"},{"$f":"VLOOKUP(A53,[1]Sheet3!$B$3:$G$145,6,FALSE)","v":80.7},40.35,{"v":74.0166666666667,"d":"74.02"}]
["1153991501320",{"$f":"VLOOKUP(A54,[1]Sheet3!$B$3:$G$145,2,FALSE)","v":"云南省广播电视局澜沧中波台"},{"$f":"VLOOKUP(A54,[1]Sheet3!$B$3:$G$145,3,FALSE)","v":"文秘"},{"$f":"VLOOKUP(A54,[1]Sheet3!$B$3:$G$145,4,FALSE)","v":"15399099157026002"},{"$f":"VLOOKUP(A54,[1]Sheet3!$B$3:$G$145,1,FALSE)","v":"1153991501320"},{"$f":"VLOOKUP(A54,[2]Sheet1!$CE$2:$CS$1539,15,FALSE)","v":{"v":179.5,"d":"179.50"}},{"v":29.9166666666667,"d":"29.92"},{"$f":"VLOOKUP(A54,[1]Sheet3!$B$3:$G$145,6,FALSE)","v":76.3},38.15,{"v":68.0666666666667,"d":"68.07"}]
["1153991503719",{"$f":"VLOOKUP(A55,[1]Sheet3!$B$3:$G$145,2,FALSE)","v":"云南省广播电视局丽江704台"},{"$f":"VLOOKUP(A55,[1]Sheet3!$B$3:$G$145,3,FALSE)","v":"文秘"},{"$f":"VLOOKUP(A55,[1]Sheet3!$B$3:$G$145,4,FALSE)","v":"15399099157007001"},{"$f":"VLOOKUP(A55,[1]Sheet3!$B$3:$G$145,1,FALSE)","v":"1153991503719"},{"$f":"VLOOKUP(A55,[2]Sheet1!$CE$2:$CS$1539,15,FALSE)","v":{"v":215.5,"d":"215.50"}},{"v":35.9166666666667,"d":"35.92"},{"$f":"VLOOKUP(A55,[1]Sheet3!$B$3:$G$145,6,FALSE)","v":82},{"v":41,"d":"41.00"},{"v":76.9166666666667,"d":"76.92"}]
["1153991501418",{"$f":"VLOOKUP(A56,[1]Sheet3!$B$3:$G$145,2,FALSE)","v":"云南省广播电视局丽江704台"},{"$f":"VLOOKUP(A56,[1]Sheet3!$B$3:$G$145,3,FALSE)","v":"文秘"},{"$f":"VLOOKUP(A56,[1]Sheet3!$B$3:$G$145,4,FALSE)","v":"15399099157007001"},{"$f":"VLOOKUP(A56,[1]Sheet3!$B$3:$G$145,1,FALSE)","v":"1153991501418"},{"$f":"VLOOKUP(A56,[2]Sheet1!$CE$2:$CS$1539,15,FALSE)","v":{"v":216,"d":"216.00"}},{"v":36,"d":"36.00"},{"$f":"VLOOKUP(A56,[1]Sheet3!$B$3:$G$145,6,FALSE)","v":81.6},{"v":40.8,"d":"40.80"},{"v":76.8,"d":"76.80"}]
["3153993204510",{"$f":"VLOOKUP(A57,[1]Sheet3!$B$3:$G$145,2,FALSE)","v":"云南省广播电视局丽江704台"},{"$f":"VLOOKUP(A57,[1]Sheet3!$B$3:$G$145,3,FALSE)","v":"广播电视工程"},{"$f":"VLOOKUP(A57,[1]Sheet3!$B$3:$G$145,4,FALSE)","v":"15399099157007002"},{"$f":"VLOOKUP(A57,[1]Sheet3!$B$3:$G$145,1,FALSE)","v":"3153993204510"},{"$f":"VLOOKUP(A57,[2]Sheet1!$CE$2:$CS$1539,15,FALSE)","v":{"v":194.5,"d":"194.50"}},{"v":32.4166666666667,"d":"32.42"},{"$f":"VLOOKUP(A57,[1]Sheet3!$B$3:$G$145,6,FALSE)","v":81.8},{"v":40.9,"d":"40.90"},{"v":73.3166666666667,"d":"73.32"}]
["3153993208008",{"$f":"VLOOKUP(A58,[1]Sheet3!$B$3:$G$145,2,FALSE)","v":"云南省广播电视局丽江704台"},{"$f":"VLOOKUP(A58,[1]Sheet3!$B$3:$G$145,3,FALSE)","v":"广播电视工程"},{"$f":"VLOOKUP(A58,[1]Sheet3!$B$3:$G$145,4,FALSE)","v":"15399099157007002"},{"$f":"VLOOKUP(A58,[1]Sheet3!$B$3:$G$145,1,FALSE)","v":"3153993208008"},{"$f":"VLOOKUP(A58,[2]Sheet1!$CE$2:$CS$1539,15,FALSE)","v":{"v":195,"d":"195.00"}},{"v":32.5,"d":"32.50"},{"$f":"VLOOKUP(A58,[1]Sheet3!$B$3:$G$145,6,FALSE)","v":81.2},{"v":40.6,"d":"40.60"},{"v":73.1,"d":"73.10"}]
["3153993208716",{"$f":"VLOOKUP(A59,[1]Sheet3!$B$3:$G$145,2,FALSE)","v":"云南省广播电视局丽江704台"},{"$f":"VLOOKUP(A59,[1]Sheet3!$B$3:$G$145,3,FALSE)","v":"广播电视工程"},{"$f":"VLOOKUP(A59,[1]Sheet3!$B$3:$G$145,4,FALSE)","v":"15399099157007002"},{"$f":"VLOOKUP(A59,[1]Sheet3!$B$3:$G$145,1,FALSE)","v":"3153993208716"},{"$f":"VLOOKUP(A59,[2]Sheet1!$CE$2:$CS$1539,15,FALSE)","v":{"v":195,"d":"195.00"}},{"v":32.5,"d":"32.50"},{"$f":"VLOOKUP(A59,[1]Sheet3!$B$3:$G$145,6,FALSE)","v":80.6},{"v":40.3,"d":"40.30"},{"v":72.8,"d":"72.80"}]
["1153991503102",{"$f":"VLOOKUP(A60,[1]Sheet3!$B$3:$G$145,2,FALSE)","v":"云南省广播电视局陇川中波台"},{"$f":"VLOOKUP(A60,[1]Sheet3!$B$3:$G$145,3,FALSE)","v":"文秘"},{"$f":"VLOOKUP(A60,[1]Sheet3!$B$3:$G$145,4,FALSE)","v":"15399099157031001"},{"$f":"VLOOKUP(A60,[1]Sheet3!$B$3:$G$145,1,FALSE)","v":"1153991503102"},{"$f":"VLOOKUP(A60,[2]Sheet1!$CE$2:$CS$1539,15,FALSE)","v":{"v":182.5,"d":"182.50"}},{"v":30.4166666666667,"d":"30.42"},{"$f":"VLOOKUP(A60,[1]Sheet3!$B$3:$G$145,6,FALSE)","v":82.1},41.05,{"v":71.4666666666667,"d":"71.47"}]
["1153991500512",{"$f":"VLOOKUP(A61,[1]Sheet3!$B$3:$G$145,2,FALSE)","v":"云南省广播电视局陇川中波台"},{"$f":"VLOOKUP(A61,[1]Sheet3!$B$3:$G$145,3,FALSE)","v":"文秘"},{"$f":"VLOOKUP(A61,[1]Sheet3!$B$3:$G$145,4,FALSE)","v":"15399099157031001"},{"$f":"VLOOKUP(A61,[1]Sheet3!$B$3:$G$145,1,FALSE)","v":"1153991500512"},{"$f":"VLOOKUP(A61,[2]Sheet1!$CE$2:$CS$1539,15,FALSE)","v":{"v":173,"d":"173.00"}},{"v":28.8333333333333,"d":"28.83"},{"$f":"VLOOKUP(A61,[1]Sheet3!$B$3:$G$145,6,FALSE)","v":80.6},{"v":40.3,"d":"40.30"},{"v":69.1333333333333,"d":"69.13"}]
["3153993205828",{"$f":"VLOOKUP(A62,[1]Sheet3!$B$3:$G$145,2,FALSE)","v":"云南省广播电视局陇川中波台"},{"$f":"VLOOKUP(A62,[1]Sheet3!$B$3:$G$145,3,FALSE)","v":"广播电视工程"},{"$f":"VLOOKUP(A62,[1]Sheet3!$B$3:$G$145,4,FALSE)","v":"15399099157031002"},{"$f":"VLOOKUP(A62,[1]Sheet3!$B$3:$G$145,1,FALSE)","v":"3153993205828"},{"$f":"VLOOKUP(A62,[2]Sheet1!$CE$2:$CS$1539,15,FALSE)","v":{"v":138,"d":"138.00"}},{"v":23,"d":"23.00"},{"$f":"VLOOKUP(A62,[1]Sheet3!$B$3:$G$145,6,FALSE)","v":83.6},{"v":41.8,"d":"41.80"},{"v":64.8,"d":"64.80"}]
["3153993206106",{"$f":"VLOOKUP(A63,[1]Sheet3!$B$3:$G$145,2,FALSE)","v":"云南省广播电视局陇川中波台"},{"$f":"VLOOKUP(A63,[1]Sheet3!$B$3:$G$145,3,FALSE)","v":"广播电视工程"},{"$f":"VLOOKUP(A63,[1]Sheet3!$B$3:$G$145,4,FALSE)","v":"15399099157031002"},{"$f":"VLOOKUP(A63,[1]Sheet3!$B$3:$G$145,1,FALSE)","v":"3153993206106"},{"$f":"VLOOKUP(A63,[2]Sheet1!$CE$2:$CS$1539,15,FALSE)","v":{"v":165.5,"d":"165.50"}},{"v":27.5833333333333,"d":"27.58"},{"$f":"VLOOKUP(A63,[1]Sheet3!$B$3:$G$145,6,FALSE)","v":79},{"v":39.5,"d":"39.50"},{"v":67.0833333333333,"d":"67.08"}]
["1153991503708",{"$f":"VLOOKUP(A64,[1]Sheet3!$B$3:$G$145,2,FALSE)","v":"云南省广播电视局绿春中波台"},{"$f":"VLOOKUP(A64,[1]Sheet3!$B$3:$G$145,3,FALSE)","v":"文秘"},{"$f":"VLOOKUP(A64,[1]Sheet3!$B$3:$G$145,4,FALSE)","v":"15399099157018001"},{"$f":"VLOOKUP(A64,[1]Sheet3!$B$3:$G$145,1,FALSE)","v":"1153991503708"},{"$f":"VLOOKUP(A64,[2]Sheet1!$CE$2:$CS$1539,15,FALSE)","v":{"v":177.5,"d":"177.50"}},{"v":29.5833333333333,"d":"29.58"},{"$f":"VLOOKUP(A64,[1]Sheet3!$B$3:$G$145,6,FALSE)","v":78.6},{"v":39.3,"d":"39.30"},{"v":68.8833333333333,"d":"68.88"}]
["1153991504130",{"$f":"VLOOKUP(A65,[1]Sheet3!$B$3:$G$145,2,FALSE)","v":"云南省广播电视局绿春中波台"},{"$f":"VLOOKUP(A65,[1]Sheet3!$B$3:$G$145,3,FALSE)","v":"文秘"},{"$f":"VLOOKUP(A65,[1]Sheet3!$B$3:$G$145,4,FALSE)","v":"15399099157018001"},{"$f":"VLOOKUP(A65,[1]Sheet3!$B$3:$G$145,1,FALSE)","v":"1153991504130"},{"$f":"VLOOKUP(A65,[2]Sheet1!$CE$2:$CS$1539,15,FALSE)","v":{"v":169.5,"d":"169.50"}},28.25,{"$f":"VLOOKUP(A65,[1]Sheet3!$B$3:$G$145,6,FALSE)","v":77.6},{"v":38.8,"d":"38.80"},67.05]
["3153993205506",{"$f":"VLOOKUP(A66,[1]Sheet3!$B$3:$G$145,2,FALSE)","v":"云南省广播电视局绿春中波台"},{"$f":"VLOOKUP(A66,[1]Sheet3!$B$3:$G$145,3,FALSE)","v":"广播电视工程"},{"$f":"VLOOKUP(A66,[1]Sheet3!$B$3:$G$145,4,FALSE)","v":"15399099157018002"},{"$f":"VLOOKUP(A66,[1]Sheet3!$B$3:$G$145,1,FALSE)","v":"3153993205506"},{"$f":"VLOOKUP(A66,[2]Sheet1!$CE$2:$CS$1539,15,FALSE)","v":{"v":166,"d":"166.00"}},{"v":27.6666666666667,"d":"27.67"},{"$f":"VLOOKUP(A66,[1]Sheet3!$B$3:$G$145,6,FALSE)","v":81.6},{"v":40.8,"d":"40.80"},{"v":68.4666666666667,"d":"68.47"}]
["3153993205505",{"$f":"VLOOKUP(A67,[1]Sheet3!$B$3:$G$145,2,FALSE)","v":"云南省广播电视局绿春中波台"},{"$f":"VLOOKUP(A67,[1]Sheet3!$B$3:$G$145,3,FALSE)","v":"广播电视工程"},{"$f":"VLOOKUP(A67,[1]Sheet3!$B$3:$G$145,4,FALSE)","v":"15399099157018002"},{"$f":"VLOOKUP(A67,[1]Sheet3!$B$3:$G$145,1,FALSE)","v":"3153993205505"},{"$f":"VLOOKUP(A67,[2]Sheet1!$CE$2:$CS$1539,15,FALSE)","v":{"v":164,"d":"164.00"}},{"$f":"(F67/300*100)*0.5","v":{"v":27.3333333333333,"d":"27.33"}},{"$f":"VLOOKUP(A67,[1]Sheet3!$B$3:$G$145,6,FALSE)","v":79.2},{"$f":"H67*0.5","v":{"v":39.6,"d":"39.60"}},{"$f":"G67+I67","v":{"v":66.9333333333333,"d":"66.93"}}]
["1153991505229",{"$f":"VLOOKUP(A68,[1]Sheet3!$B$3:$G$145,2,FALSE)","v":"云南省广播电视局麻栗坡中波台"},{"$f":"VLOOKUP(A68,[1]Sheet3!$B$3:$G$145,3,FALSE)","v":"文秘"},{"$f":"VLOOKUP(A68,[1]Sheet3!$B$3:$G$145,4,FALSE)","v":"15399099157019001"},{"$f":"VLOOKUP(A68,[1]Sheet3!$B$3:$G$145,1,FALSE)","v":"1153991505229"},{"$f":"VLOOKUP(A68,[2]Sheet1!$CE$2:$CS$1539,15,FALSE)","v":{"v":194,"d":"194.00"}},{"v":32.3333333333333,"d":"32.33"},{"$f":"VLOOKUP(A68,[1]Sheet3!$B$3:$G$145,6,FALSE)","v":83.1},41.55,{"v":73.8833333333333,"d":"73.88"}]
["1153991500705",{"$f":"VLOOKUP(A69,[1]Sheet3!$B$3:$G$145,2,FALSE)","v":"云南省广播电视局麻栗坡中波台"},{"$f":"VLOOKUP(A69,[1]Sheet3!$B$3:$G$145,3,FALSE)","v":"文秘"},{"$f":"VLOOKUP(A69,[1]Sheet3!$B$3:$G$145,4,FALSE)","v":"15399099157019001"},{"$f":"VLOOKUP(A69,[1]Sheet3!$B$3:$G$145,1,FALSE)","v":"1153991500705"},{"$f":"VLOOKUP(A69,[2]Sheet1!$CE$2:$CS$1539,15,FALSE)","v":{"v":180,"d":"180.00"}},{"v":30,"d":"30.00"},{"$f":"VLOOKUP(A69,[1]Sheet3!$B$3:$G$145,6,FALSE)","v":79.1},39.55,69.55]
["3153993207628",{"$f":"VLOOKUP(A70,[1]Sheet3!$B$3:$G$145,2,FALSE)","v":"云南省广播电视局麻栗坡中波台"},{"$f":"VLOOKUP(A70,[1]Sheet3!$B$3:$G$145,3,FALSE)","v":"广播电视工程"},{"$f":"VLOOKUP(A70,[1]Sheet3!$B$3:$G$145,4,FALSE)","v":"15399099157019002"},{"$f":"VLOOKUP(A70,[1]Sheet3!$B$3:$G$145,1,FALSE)","v":"3153993207628"},{"$f":"VLOOKUP(A70,[2]Sheet1!$CE$2:$CS$1539,15,FALSE)","v":{"v":191,"d":"191.00"}},{"v":31.8333333333333,"d":"31.83"},{"$f":"VLOOKUP(A70,[1]Sheet3!$B$3:$G$145,6,FALSE)","v":81.6},{"v":40.8,"d":"40.80"},{"v":72.6333333333333,"d":"72.63"}]
["3153993208301",{"$f":"VLOOKUP(A71,[1]Sheet3!$B$3:$G$145,2,FALSE)","v":"云南省广播电视局麻栗坡中波台"},{"$f":"VLOOKUP(A71,[1]Sheet3!$B$3:$G$145,3,FALSE)","v":"广播电视工程"},{"$f":"VLOOKUP(A71,[1]Sheet3!$B$3:$G$145,4,FALSE)","v":"15399099157019002"},{"$f":"VLOOKUP(A71,[1]Sheet3!$B$3:$G$145,1,FALSE)","v":"3153993208301"},{"$f":"VLOOKUP(A71,[2]Sheet1!$CE$2:$CS$1539,15,FALSE)","v":{"v":190.5,"d":"190.50"}},31.75,{"$f":"VLOOKUP(A71,[1]Sheet3!$B$3:$G$145,6,FALSE)","v":81},{"v":40.5,"d":"40.50"},72.25]
["3153993204930",{"$f":"VLOOKUP(A72,[1]Sheet3!$B$3:$G$145,2,FALSE)","v":"云南省广播电视局麻栗坡中波台"},{"$f":"VLOOKUP(A72,[1]Sheet3!$B$3:$G$145,3,FALSE)","v":"广播电视工程"},{"$f":"VLOOKUP(A72,[1]Sheet3!$B$3:$G$145,4,FALSE)","v":"15399099157019002"},{"$f":"VLOOKUP(A72,[1]Sheet3!$B$3:$G$145,1,FALSE)","v":"3153993204930"},{"$f":"VLOOKUP(A72,[2]Sheet1!$CE$2:$CS$1539,15,FALSE)","v":{"v":172.5,"d":"172.50"}},28.75,{"$f":"VLOOKUP(A72,[1]Sheet3!$B$3:$G$145,6,FALSE)","v":80.4},{"v":40.2,"d":"40.20"},68.95]
["3153993205914",{"$f":"VLOOKUP(A73,[1]Sheet3!$B$3:$G$145,2,FALSE)","v":"云南省广播电视局麻栗坡中波台"},{"$f":"VLOOKUP(A73,[1]Sheet3!$B$3:$G$145,3,FALSE)","v":"广播电视工程"},{"$f":"VLOOKUP(A73,[1]Sheet3!$B$3:$G$145,4,FALSE)","v":"15399099157019002"},{"$f":"VLOOKUP(A73,[1]Sheet3!$B$3:$G$145,1,FALSE)","v":"3153993205914"},{"$f":"VLOOKUP(A73,[2]Sheet1!$CE$2:$CS$1539,15,FALSE)","v":{"v":201,"d":"201.00"}},{"v":33.5,"d":"33.50"},{"$f":"VLOOKUP(A73,[1]Sheet3!$B$3:$G$145,6,FALSE)","v":79.2},{"v":39.6,"d":"39.60"},{"v":73.1,"d":"73.10"}]
["3153993208411",{"$f":"VLOOKUP(A74,[1]Sheet3!$B$3:$G$145,2,FALSE)","v":"云南省广播电视局麻栗坡中波台"},{"$f":"VLOOKUP(A74,[1]Sheet3!$B$3:$G$145,3,FALSE)","v":"广播电视工程"},{"$f":"VLOOKUP(A74,[1]Sheet3!$B$3:$G$145,4,FALSE)","v":"15399099157019002"},{"$f":"VLOOKUP(A74,[1]Sheet3!$B$3:$G$145,1,FALSE)","v":"3153993208411"},{"$f":"VLOOKUP(A74,[2]Sheet1!$CE$2:$CS$1539,15,FALSE)","v":{"v":170.5,"d":"170.50"}},{"v":28.4166666666667,"d":"28.42"},{"$f":"VLOOKUP(A74,[1]Sheet3!$B$3:$G$145,6,FALSE)","v":78.6},{"v":39.3,"d":"39.30"},{"v":67.7166666666667,"d":"67.72"}]
["1153991501105",{"$f":"VLOOKUP(A75,[1]Sheet3!$B$3:$G$145,2,FALSE)","v":"云南省广播电视局马关中波台"},{"$f":"VLOOKUP(A75,[1]Sheet3!$B$3:$G$145,3,FALSE)","v":"会计"},{"$f":"VLOOKUP(A75,[1]Sheet3!$B$3:$G$145,4,FALSE)","v":"15399099157020001"},{"$f":"VLOOKUP(A75,[1]Sheet3!$B$3:$G$145,1,FALSE)","v":"1153991501105"},{"$f":"VLOOKUP(A75,[2]Sheet1!$CE$2:$CS$1539,15,FALSE)","v":{"v":192.5,"d":"192.50"}},{"v":32.0833333333333,"d":"32.08"},{"$f":"VLOOKUP(A75,[1]Sheet3!$B$3:$G$145,6,FALSE)","v":79.56},39.78,{"v":71.8633333333333,"d":"71.86"}]
["1153991500729",{"$f":"VLOOKUP(A76,[1]Sheet3!$B$3:$G$145,2,FALSE)","v":"云南省广播电视局马关中波台"},{"$f":"VLOOKUP(A76,[1]Sheet3!$B$3:$G$145,3,FALSE)","v":"会计"},{"$f":"VLOOKUP(A76,[1]Sheet3!$B$3:$G$145,4,FALSE)","v":"15399099157020001"},{"$f":"VLOOKUP(A76,[1]Sheet3!$B$3:$G$145,1,FALSE)","v":"1153991500729"},{"$f":"VLOOKUP(A76,[2]Sheet1!$CE$2:$CS$1539,15,FALSE)","v":{"v":209.5,"d":"209.50"}},{"v":34.9166666666667,"d":"34.92"},{"$f":"VLOOKUP(A76,[1]Sheet3!$B$3:$G$145,6,FALSE)","v":77},{"v":38.5,"d":"38.50"},{"v":73.4166666666667,"d":"73.42"}]
["1153991500726",{"$f":"VLOOKUP(A77,[1]Sheet3!$B$3:$G$145,2,FALSE)","v":"云南省广播电视局马关中波台"},{"$f":"VLOOKUP(A77,[1]Sheet3!$B$3:$G$145,3,FALSE)","v":"文秘"},{"$f":"VLOOKUP(A77,[1]Sheet3!$B$3:$G$145,4,FALSE)","v":"15399099157020002"},{"$f":"VLOOKUP(A77,[1]Sheet3!$B$3:$G$145,1,FALSE)","v":"1153991500726"},{"$f":"VLOOKUP(A77,[2]Sheet1!$CE$2:$CS$1539,15,FALSE)","v":{"v":187.5,"d":"187.50"}},31.25,{"$f":"VLOOKUP(A77,[1]Sheet3!$B$3:$G$145,6,FALSE)","v":80.8},{"v":40.4,"d":"40.40"},71.65]
["1153991500912",{"$f":"VLOOKUP(A78,[1]Sheet3!$B$3:$G$145,2,FALSE)","v":"云南省广播电视局马关中波台"},{"$f":"VLOOKUP(A78,[1]Sheet3!$B$3:$G$145,3,FALSE)","v":"文秘"},{"$f":"VLOOKUP(A78,[1]Sheet3!$B$3:$G$145,4,FALSE)","v":"15399099157020002"},{"$f":"VLOOKUP(A78,[1]Sheet3!$B$3:$G$145,1,FALSE)","v":"1153991500912"},{"$f":"VLOOKUP(A78,[2]Sheet1!$CE$2:$CS$1539,15,FALSE)","v":{"v":191,"d":"191.00"}},{"v":31.8333333333333,"d":"31.83"},{"$f":"VLOOKUP(A78,[1]Sheet3!$B$3:$G$145,6,FALSE)","v":80.4},{"v":40.2,"d":"40.20"},{"v":72.0333333333333,"d":"72.03"}]
["1153991500417",{"$f":"VLOOKUP(A79,[1]Sheet3!$B$3:$G$145,2,FALSE)","v":"云南省广播电视局马关中波台"},{"$f":"VLOOKUP(A79,[1]Sheet3!$B$3:$G$145,3,FALSE)","v":"文秘"},{"$f":"VLOOKUP(A79,[1]Sheet3!$B$3:$G$145,4,FALSE)","v":"15399099157020002"},{"$f":"VLOOKUP(A79,[1]Sheet3!$B$3:$G$145,1,FALSE)","v":"1153991500417"},{"$f":"VLOOKUP(A79,[2]Sheet1!$CE$2:$CS$1539,15,FALSE)","v":{"v":191,"d":"191.00"}},{"v":31.8333333333333,"d":"31.83"},{"$f":"VLOOKUP(A79,[1]Sheet3!$B$3:$G$145,6,FALSE)","v":80.3},40.15,{"v":71.9833333333333,"d":"71.98"}]
["1153991500913",{"$f":"VLOOKUP(A80,[1]Sheet3!$B$3:$G$145,2,FALSE)","v":"云南省广播电视局勐腊中波台"},{"$f":"VLOOKUP(A80,[1]Sheet3!$B$3:$G$145,3,FALSE)","v":"文秘"},{"$f":"VLOOKUP(A80,[1]Sheet3!$B$3:$G$145,4,FALSE)","v":"15399099157028001"},{"$f":"VLOOKUP(A80,[1]Sheet3!$B$3:$G$145,1,FALSE)","v":"1153991500913"},{"$f":"VLOOKUP(A80,[2]Sheet1!$CE$2:$CS$1539,15,FALSE)","v":{"v":153.5,"d":"153.50"}},{"v":25.5833333333333,"d":"25.58"},{"$f":"VLOOKUP(A80,[1]Sheet3!$B$3:$G$145,6,FALSE)","v":78.9},39.45,{"v":65.0333333333333,"d":"65.03"}]
["1153991502021",{"$f":"VLOOKUP(A81,[1]Sheet3!$B$3:$G$145,2,FALSE)","v":"云南省广播电视局勐腊中波台"},{"$f":"VLOOKUP(A81,[1]Sheet3!$B$3:$G$145,3,FALSE)","v":"文秘"},{"$f":"VLOOKUP(A81,[1]Sheet3!$B$3:$G$145,4,FALSE)","v":"15399099157028001"},{"$f":"VLOOKUP(A81,[1]Sheet3!$B$3:$G$145,1,FALSE)","v":"1153991502021"},{"$f":"VLOOKUP(A81,[2]Sheet1!$CE$2:$CS$1539,15,FALSE)","v":{"v":157,"d":"157.00"}},{"v":26.1666666666667,"d":"26.17"},{"$f":"VLOOKUP(A81,[1]Sheet3!$B$3:$G$145,6,FALSE)","v":0},{"v":0,"d":"0.00"},{"v":26.1666666666667,"d":"26.17"}]
["3153993207721",{"$f":"VLOOKUP(A82,[1]Sheet3!$B$3:$G$145,2,FALSE)","v":"云南省广播电视局勐腊中波台"},{"$f":"VLOOKUP(A82,[1]Sheet3!$B$3:$G$145,3,FALSE)","v":"广播电视工程"},{"$f":"VLOOKUP(A82,[1]Sheet3!$B$3:$G$145,4,FALSE)","v":"15399099157028002"},{"$f":"VLOOKUP(A82,[1]Sheet3!$B$3:$G$145,1,FALSE)","v":"3153993207721"},{"$f":"VLOOKUP(A82,[2]Sheet1!$CE$2:$CS$1539,15,FALSE)","v":{"v":178.5,"d":"178.50"}},29.75,{"$f":"VLOOKUP(A82,[1]Sheet3!$B$3:$G$145,6,FALSE)","v":80.2},{"v":40.1,"d":"40.10"},69.85]
["3153993207707",{"$f":"VLOOKUP(A83,[1]Sheet3!$B$3:$G$145,2,FALSE)","v":"云南省广播电视局勐腊中波台"},{"$f":"VLOOKUP(A83,[1]Sheet3!$B$3:$G$145,3,FALSE)","v":"广播电视工程"},{"$f":"VLOOKUP(A83,[1]Sheet3!$B$3:$G$145,4,FALSE)","v":"15399099157028002"},{"$f":"VLOOKUP(A83,[1]Sheet3!$B$3:$G$145,1,FALSE)","v":"3153993207707"},{"$f":"VLOOKUP(A83,[2]Sheet1!$CE$2:$CS$1539,15,FALSE)","v":{"v":148,"d":"148.00"}},{"v":24.6666666666667,"d":"24.67"},{"$f":"VLOOKUP(A83,[1]Sheet3!$B$3:$G$145,6,FALSE)","v":74.9},37.45,{"v":62.1166666666667,"d":"62.12"}]
["1153991500925",{"$f":"VLOOKUP(A84,[1]Sheet3!$B$3:$G$145,2,FALSE)","v":"云南省广播电视局孟连中波台"},{"$f":"VLOOKUP(A84,[1]Sheet3!$B$3:$G$145,3,FALSE)","v":"会计"},{"$f":"VLOOKUP(A84,[1]Sheet3!$B$3:$G$145,4,FALSE)","v":"15399099157025001"},{"$f":"VLOOKUP(A84,[1]Sheet3!$B$3:$G$145,1,FALSE)","v":"1153991500925"},{"$f":"VLOOKUP(A84,[2]Sheet1!$CE$2:$CS$1539,15,FALSE)","v":{"v":197.5,"d":"197.50"}},{"v":32.9166666666667,"d":"32.92"},{"$f":"VLOOKUP(A84,[1]Sheet3!$B$3:$G$145,6,FALSE)","v":78.2},{"v":39.1,"d":"39.10"},{"v":72.0166666666667,"d":"72.02"}]
["1153991503828",{"$f":"VLOOKUP(A85,[1]Sheet3!$B$3:$G$145,2,FALSE)","v":"云南省广播电视局孟连中波台"},{"$f":"VLOOKUP(A85,[1]Sheet3!$B$3:$G$145,3,FALSE)","v":"会计"},{"$f":"VLOOKUP(A85,[1]Sheet3!$B$3:$G$145,4,FALSE)","v":"15399099157025001"},{"$f":"VLOOKUP(A85,[1]Sheet3!$B$3:$G$145,1,FALSE)","v":"1153991503828"},{"$f":"VLOOKUP(A85,[2]Sheet1!$CE$2:$CS$1539,15,FALSE)","v":{"v":166,"d":"166.00"}},{"v":27.6666666666667,"d":"27.67"},{"$f":"VLOOKUP(A85,[1]Sheet3!$B$3:$G$145,6,FALSE)","v":75.4},{"v":37.7,"d":"37.70"},{"v":65.3666666666667,"d":"65.37"}]
["1153991500305",{"$f":"VLOOKUP(A86,[1]Sheet3!$B$3:$G$145,2,FALSE)","v":"云南省广播电视局怒江中波台"},{"$f":"VLOOKUP(A86,[1]Sheet3!$B$3:$G$145,3,FALSE)","v":"文秘"},{"$f":"VLOOKUP(A86,[1]Sheet3!$B$3:$G$145,4,FALSE)","v":"15399099157008001"},{"$f":"VLOOKUP(A86,[1]Sheet3!$B$3:$G$145,1,FALSE)","v":"1153991500305"},{"$f":"VLOOKUP(A86,[2]Sheet1!$CE$2:$CS$1539,15,FALSE)","v":{"v":204,"d":"204.00"}},{"v":34,"d":"34.00"},{"$f":"VLOOKUP(A86,[1]Sheet3!$B$3:$G$145,6,FALSE)","v":82.2},{"v":41.1,"d":"41.10"},{"v":75.1,"d":"75.10"}]
["1153991502305",{"$f":"VLOOKUP(A87,[1]Sheet3!$B$3:$G$145,2,FALSE)","v":"云南省广播电视局怒江中波台"},{"$f":"VLOOKUP(A87,[1]Sheet3!$B$3:$G$145,3,FALSE)","v":"文秘"},{"$f":"VLOOKUP(A87,[1]Sheet3!$B$3:$G$145,4,FALSE)","v":"15399099157008001"},{"$f":"VLOOKUP(A87,[1]Sheet3!$B$3:$G$145,1,FALSE)","v":"1153991502305"},{"$f":"VLOOKUP(A87,[2]Sheet1!$CE$2:$CS$1539,15,FALSE)","v":{"v":193,"d":"193.00"}},{"v":32.1666666666667,"d":"32.17"},{"$f":"VLOOKUP(A87,[1]Sheet3!$B$3:$G$145,6,FALSE)","v":81.8},{"v":40.9,"d":"40.90"},{"v":73.0666666666667,"d":"73.07"}]
["3153993208725",{"$f":"VLOOKUP(A88,[1]Sheet3!$B$3:$G$145,2,FALSE)","v":"云南省广播电视局怒江中波台"},{"$f":"VLOOKUP(A88,[1]Sheet3!$B$3:$G$145,3,FALSE)","v":"广播电视工程"},{"$f":"VLOOKUP(A88,[1]Sheet3!$B$3:$G$145,4,FALSE)","v":"15399099157008002"},{"$f":"VLOOKUP(A88,[1]Sheet3!$B$3:$G$145,1,FALSE)","v":"3153993208725"},{"$f":"VLOOKUP(A88,[2]Sheet1!$CE$2:$CS$1539,15,FALSE)","v":{"v":181.5,"d":"181.50"}},30.25,{"$f":"VLOOKUP(A88,[1]Sheet3!$B$3:$G$145,6,FALSE)","v":79.8},{"v":39.9,"d":"39.90"},70.15]
["3153993205630",{"$f":"VLOOKUP(A89,[1]Sheet3!$B$3:$G$145,2,FALSE)","v":"云南省广播电视局怒江中波台"},{"$f":"VLOOKUP(A89,[1]Sheet3!$B$3:$G$145,3,FALSE)","v":"广播电视工程"},{"$f":"VLOOKUP(A89,[1]Sheet3!$B$3:$G$145,4,FALSE)","v":"15399099157008002"},{"$f":"VLOOKUP(A89,[1]Sheet3!$B$3:$G$145,1,FALSE)","v":"3153993205630"},{"$f":"VLOOKUP(A89,[2]Sheet1!$CE$2:$CS$1539,15,FALSE)","v":{"v":153,"d":"153.00"}},{"v":25.5,"d":"25.50"},{"$f":"VLOOKUP(A89,[1]Sheet3!$B$3:$G$145,6,FALSE)","v":0},{"v":0,"d":"0.00"},{"v":25.5,"d":"25.50"}]
["1153991501611",{"$f":"VLOOKUP(A90,[1]Sheet3!$B$3:$G$145,2,FALSE)","v":"云南省广播电视局普洱701台"},{"$f":"VLOOKUP(A90,[1]Sheet3!$B$3:$G$145,3,FALSE)","v":"文秘"},{"$f":"VLOOKUP(A90,[1]Sheet3!$B$3:$G$145,4,FALSE)","v":"15399099157022001"},{"$f":"VLOOKUP(A90,[1]Sheet3!$B$3:$G$145,1,FALSE)","v":"1153991501611"},{"$f":"VLOOKUP(A90,[2]Sheet1!$CE$2:$CS$1539,15,FALSE)","v":{"v":193,"d":"193.00"}},{"v":32.1666666666667,"d":"32.17"},{"$f":"VLOOKUP(A90,[1]Sheet3!$B$3:$G$145,6,FALSE)","v":80},{"v":40,"d":"40.00"},{"v":72.1666666666667,"d":"72.17"}]
["1153991505428",{"$f":"VLOOKUP(A91,[1]Sheet3!$B$3:$G$145,2,FALSE)","v":"云南省广播电视局普洱701台"},{"$f":"VLOOKUP(A91,[1]Sheet3!$B$3:$G$145,3,FALSE)","v":"文秘"},{"$f":"VLOOKUP(A91,[1]Sheet3!$B$3:$G$145,4,FALSE)","v":"15399099157022001"},{"$f":"VLOOKUP(A91,[1]Sheet3!$B$3:$G$145,1,FALSE)","v":"1153991505428"},{"$f":"VLOOKUP(A91,[2]Sheet1!$CE$2:$CS$1539,15,FALSE)","v":{"v":192.5,"d":"192.50"}},{"v":32.0833333333333,"d":"32.08"},{"$f":"VLOOKUP(A91,[1]Sheet3!$B$3:$G$145,6,FALSE)","v":79.9},39.95,{"v":72.0333333333333,"d":"72.03"}]
["3153993207425",{"$f":"VLOOKUP(A92,[1]Sheet3!$B$3:$G$145,2,FALSE)","v":"云南省广播电视局普洱701台"},{"$f":"VLOOKUP(A92,[1]Sheet3!$B$3:$G$145,3,FALSE)","v":"广播电视工程"},{"$f":"VLOOKUP(A92,[1]Sheet3!$B$3:$G$145,4,FALSE)","v":"15399099157022002"},{"$f":"VLOOKUP(A92,[1]Sheet3!$B$3:$G$145,1,FALSE)","v":"3153993207425"},{"$f":"VLOOKUP(A92,[2]Sheet1!$CE$2:$CS$1539,15,FALSE)","v":{"v":194.5,"d":"194.50"}},{"v":32.4166666666667,"d":"32.42"},{"$f":"VLOOKUP(A92,[1]Sheet3!$B$3:$G$145,6,FALSE)","v":83},{"v":41.5,"d":"41.50"},{"v":73.9166666666667,"d":"73.92"}]
["3153993208923",{"$f":"VLOOKUP(A93,[1]Sheet3!$B$3:$G$145,2,FALSE)","v":"云南省广播电视局普洱701台"},{"$f":"VLOOKUP(A93,[1]Sheet3!$B$3:$G$145,3,FALSE)","v":"广播电视工程"},{"$f":"VLOOKUP(A93,[1]Sheet3!$B$3:$G$145,4,FALSE)","v":"15399099157022002"},{"$f":"VLOOKUP(A93,[1]Sheet3!$B$3:$G$145,1,FALSE)","v":"3153993208923"},{"$f":"VLOOKUP(A93,[2]Sheet1!$CE$2:$CS$1539,15,FALSE)","v":{"v":185.5,"d":"185.50"}},{"v":30.9166666666667,"d":"30.92"},{"$f":"VLOOKUP(A93,[1]Sheet3!$B$3:$G$145,6,FALSE)","v":80.9},40.45,{"v":71.3666666666667,"d":"71.37"}]
["1153991500927",{"$f":"VLOOKUP(A94,[1]Sheet3!$B$3:$G$145,2,FALSE)","v":"云南省广播电视局瑞丽中波台"},{"$f":"VLOOKUP(A94,[1]Sheet3!$B$3:$G$145,3,FALSE)","v":"文秘"},{"$f":"VLOOKUP(A94,[1]Sheet3!$B$3:$G$145,4,FALSE)","v":"15399099157030001"},{"$f":"VLOOKUP(A94,[1]Sheet3!$B$3:$G$145,1,FALSE)","v":"1153991500927"},{"$f":"VLOOKUP(A94,[2]Sheet1!$CE$2:$CS$1539,15,FALSE)","v":{"v":198.5,"d":"198.50"}},{"v":33.0833333333333,"d":"33.08"},{"$f":"VLOOKUP(A94,[1]Sheet3!$B$3:$G$145,6,FALSE)","v":85.2},{"v":42.6,"d":"42.60"},{"v":75.6833333333333,"d":"75.68"}]
["1153991501302",{"$f":"VLOOKUP(A95,[1]Sheet3!$B$3:$G$145,2,FALSE)","v":"云南省广播电视局瑞丽中波台"},{"$f":"VLOOKUP(A95,[1]Sheet3!$B$3:$G$145,3,FALSE)","v":"文秘"},{"$f":"VLOOKUP(A95,[1]Sheet3!$B$3:$G$145,4,FALSE)","v":"15399099157030001"},{"$f":"VLOOKUP(A95,[1]Sheet3!$B$3:$G$145,1,FALSE)","v":"1153991501302"},{"$f":"VLOOKUP(A95,[2]Sheet1!$CE$2:$CS$1539,15,FALSE)","v":{"v":208,"d":"208.00"}},{"v":34.6666666666667,"d":"34.67"},{"$f":"VLOOKUP(A95,[1]Sheet3!$B$3:$G$145,6,FALSE)","v":83.5},41.75,{"v":76.4166666666667,"d":"76.42"}]
["3153993206829",{"$f":"VLOOKUP(A96,[1]Sheet3!$B$3:$G$145,2,FALSE)","v":"云南省广播电视局瑞丽中波台"},{"$f":"VLOOKUP(A96,[1]Sheet3!$B$3:$G$145,3,FALSE)","v":"广播电视工程"},{"$f":"VLOOKUP(A96,[1]Sheet3!$B$3:$G$145,4,FALSE)","v":"15399099157030022"},{"$f":"VLOOKUP(A96,[1]Sheet3!$B$3:$G$145,1,FALSE)","v":"3153993206829"},{"$f":"VLOOKUP(A96,[2]Sheet1!$CE$2:$CS$1539,15,FALSE)","v":{"v":179.5,"d":"179.50"}},{"v":29.9166666666667,"d":"29.92"},{"$f":"VLOOKUP(A96,[1]Sheet3!$B$3:$G$145,6,FALSE)","v":79.4},{"v":39.7,"d":"39.70"},{"v":69.6166666666667,"d":"69.62"}]
["3153993204411",{"$f":"VLOOKUP(A97,[1]Sheet3!$B$3:$G$145,2,FALSE)","v":"云南省广播电视局瑞丽中波台"},{"$f":"VLOOKUP(A97,[1]Sheet3!$B$3:$G$145,3,FALSE)","v":"广播电视工程"},{"$f":"VLOOKUP(A97,[1]Sheet3!$B$3:$G$145,4,FALSE)","v":"15399099157030022"},{"$f":"VLOOKUP(A97,[1]Sheet3!$B$3:$G$145,1,FALSE)","v":"3153993204411"},{"$f":"VLOOKUP(A97,[2]Sheet1!$CE$2:$CS$1539,15,FALSE)","v":{"v":141.5,"d":"141.50"}},{"v":23.5833333333333,"d":"23.58"},{"$f":"VLOOKUP(A97,[1]Sheet3!$B$3:$G$145,6,FALSE)","v":77.8},{"v":38.9,"d":"38.90"},{"v":62.4833333333333,"d":"62.48"}]
["3153993208120",{"$f":"VLOOKUP(A98,[1]Sheet3!$B$3:$G$145,2,FALSE)","v":"云南省广播电视局事业发展中心"},{"$f":"VLOOKUP(A98,[1]Sheet3!$B$3:$G$145,3,FALSE)","v":"广播电视工程"},{"$f":"VLOOKUP(A98,[1]Sheet3!$B$3:$G$145,4,FALSE)","v":"15399099157002001"},{"$f":"VLOOKUP(A98,[1]Sheet3!$B$3:$G$145,1,FALSE)","v":"3153993208120"},{"$f":"VLOOKUP(A98,[2]Sheet1!$CE$2:$CS$1539,15,FALSE)","v":{"v":202.5,"d":"202.50"}},33.75,{"$f":"VLOOKUP(A98,[1]Sheet3!$B$3:$G$145,6,FALSE)","v":82.3},41.15,{"v":74.9,"d":"74.90"}]
["3153993206107",{"$f":"VLOOKUP(A99,[1]Sheet3!$B$3:$G$145,2,FALSE)","v":"云南省广播电视局事业发展中心"},{"$f":"VLOOKUP(A99,[1]Sheet3!$B$3:$G$145,3,FALSE)","v":"广播电视工程"},{"$f":"VLOOKUP(A99,[1]Sheet3!$B$3:$G$145,4,FALSE)","v":"15399099157002001"},{"$f":"VLOOKUP(A99,[1]Sheet3!$B$3:$G$145,1,FALSE)","v":"3153993206107"},{"$f":"VLOOKUP(A99,[2]Sheet1!$CE$2:$CS$1539,15,FALSE)","v":{"v":199.5,"d":"199.50"}},33.25,{"$f":"VLOOKUP(A99,[1]Sheet3!$B$3:$G$145,6,FALSE)","v":77.6},{"v":38.8,"d":"38.80"},72.05]
["3153993312714",{"$f":"VLOOKUP(A100,[1]Sheet3!$B$3:$G$145,2,FALSE)","v":"云南省广播电视局事业发展中心"},{"$f":"VLOOKUP(A100,[1]Sheet3!$B$3:$G$145,3,FALSE)","v":"广播电视工程"},{"$f":"VLOOKUP(A100,[1]Sheet3!$B$3:$G$145,4,FALSE)","v":"15399099157002002"},{"$f":"VLOOKUP(A100,[1]Sheet3!$B$3:$G$145,1,FALSE)","v":"3153993312714"},{"$f":"VLOOKUP(A100,[2]Sheet1!$CE$2:$CS$1539,15,FALSE)","v":{"v":194.5,"d":"194.50"}},{"v":32.4166666666667,"d":"32.42"},{"$f":"VLOOKUP(A100,[1]Sheet3!$B$3:$G$145,6,FALSE)","v":81.1},40.55,{"v":72.9666666666667,"d":"72.97"}]
["3153993312205",{"$f":"VLOOKUP(A101,[1]Sheet3!$B$3:$G$145,2,FALSE)","v":"云南省广播电视局事业发展中心"},{"$f":"VLOOKUP(A101,[1]Sheet3!$B$3:$G$145,3,FALSE)","v":"广播电视工程"},{"$f":"VLOOKUP(A101,[1]Sheet3!$B$3:$G$145,4,FALSE)","v":"15399099157002002"},{"$f":"VLOOKUP(A101,[1]Sheet3!$B$3:$G$145,1,FALSE)","v":"3153993312205"},{"$f":"VLOOKUP(A101,[2]Sheet1!$CE$2:$CS$1539,15,FALSE)","v":{"v":183,"d":"183.00"}},{"v":30.5,"d":"30.50"},{"$f":"VLOOKUP(A101,[1]Sheet3!$B$3:$G$145,6,FALSE)","v":0},{"v":0,"d":"0.00"},{"v":30.5,"d":"30.50"}]
["2153991205719",{"$f":"VLOOKUP(A102,[1]Sheet3!$B$3:$G$145,2,FALSE)","v":"云南省广播电视局事业发展中心"},{"$f":"VLOOKUP(A102,[1]Sheet3!$B$3:$G$145,3,FALSE)","v":"编辑"},{"$f":"VLOOKUP(A102,[1]Sheet3!$B$3:$G$145,4,FALSE)","v":"15399099157002003"},{"$f":"VLOOKUP(A102,[1]Sheet3!$B$3:$G$145,1,FALSE)","v":"2153991205719"},{"$f":"VLOOKUP(A102,[2]Sheet1!$CE$2:$CS$1539,15,FALSE)","v":{"v":222.5,"d":"222.50"}},{"v":37.0833333333333,"d":"37.08"},{"$f":"VLOOKUP(A102,[1]Sheet3!$B$3:$G$145,6,FALSE)","v":81.6},{"v":40.8,"d":"40.80"},{"v":77.8833333333333,"d":"77.88"}]
["2153991201923",{"$f":"VLOOKUP(A103,[1]Sheet3!$B$3:$G$145,2,FALSE)","v":"云南省广播电视局事业发展中心"},{"$f":"VLOOKUP(A103,[1]Sheet3!$B$3:$G$145,3,FALSE)","v":"编辑"},{"$f":"VLOOKUP(A103,[1]Sheet3!$B$3:$G$145,4,FALSE)","v":"15399099157002003"},{"$f":"VLOOKUP(A103,[1]Sheet3!$B$3:$G$145,1,FALSE)","v":"2153991201923"},{"$f":"VLOOKUP(A103,[2]Sheet1!$CE$2:$CS$1539,15,FALSE)","v":{"v":215.5,"d":"215.50"}},{"v":35.9166666666667,"d":"35.92"},{"$f":"VLOOKUP(A103,[1]Sheet3!$B$3:$G$145,6,FALSE)","v":79.6},{"v":39.8,"d":"39.80"},{"v":75.7166666666667,"d":"75.72"}]
["2153991200321",{"$f":"VLOOKUP(A104,[1]Sheet3!$B$3:$G$145,2,FALSE)","v":"云南省广播电视局事业发展中心"},{"$f":"VLOOKUP(A104,[1]Sheet3!$B$3:$G$145,3,FALSE)","v":"编辑"},{"$f":"VLOOKUP(A104,[1]Sheet3!$B$3:$G$145,4,FALSE)","v":"15399099157002003"},{"$f":"VLOOKUP(A104,[1]Sheet3!$B$3:$G$145,1,FALSE)","v":"2153991200321"},{"$f":"VLOOKUP(A104,[2]Sheet1!$CE$2:$CS$1539,15,FALSE)","v":{"v":217.5,"d":"217.50"}},36.25,{"$f":"VLOOKUP(A104,[1]Sheet3!$B$3:$G$145,6,FALSE)","v":79.4},{"v":39.7,"d":"39.70"},75.95]
["2153991202528",{"$f":"VLOOKUP(A105,[1]Sheet3!$B$3:$G$145,2,FALSE)","v":"云南省广播电视局事业发展中心"},{"$f":"VLOOKUP(A105,[1]Sheet3!$B$3:$G$145,3,FALSE)","v":"编辑"},{"$f":"VLOOKUP(A105,[1]Sheet3!$B$3:$G$145,4,FALSE)","v":"15399099157002003"},{"$f":"VLOOKUP(A105,[1]Sheet3!$B$3:$G$145,1,FALSE)","v":"2153991202528"},{"$f":"VLOOKUP(A105,[2]Sheet1!$CE$2:$CS$1539,15,FALSE)","v":{"v":219,"d":"219.00"}},{"v":36.5,"d":"36.50"},{"$f":"VLOOKUP(A105,[1]Sheet3!$B$3:$G$145,6,FALSE)","v":79.2},{"v":39.6,"d":"39.60"},{"v":76.1,"d":"76.10"}]
["2153991205123",{"$f":"VLOOKUP(A106,[1]Sheet3!$B$3:$G$145,2,FALSE)","v":"云南省广播电视局事业发展中心"},{"$f":"VLOOKUP(A106,[1]Sheet3!$B$3:$G$145,3,FALSE)","v":"编辑"},{"$f":"VLOOKUP(A106,[1]Sheet3!$B$3:$G$145,4,FALSE)","v":"15399099157002003"},{"$f":"VLOOKUP(A106,[1]Sheet3!$B$3:$G$145,1,FALSE)","v":"2153991205123"},{"$f":"VLOOKUP(A106,[2]Sheet1!$CE$2:$CS$1539,15,FALSE)","v":{"v":223,"d":"223.00"}},{"v":37.1666666666667,"d":"37.17"},{"$f":"VLOOKUP(A106,[1]Sheet3!$B$3:$G$145,6,FALSE)","v":78.4},{"v":39.2,"d":"39.20"},{"v":76.3666666666667,"d":"76.37"}]
["2153991207507",{"$f":"VLOOKUP(A107,[1]Sheet3!$B$3:$G$145,2,FALSE)","v":"云南省广播电视局事业发展中心"},{"$f":"VLOOKUP(A107,[1]Sheet3!$B$3:$G$145,3,FALSE)","v":"编辑"},{"$f":"VLOOKUP(A107,[1]Sheet3!$B$3:$G$145,4,FALSE)","v":"15399099157002003"},{"$f":"VLOOKUP(A107,[1]Sheet3!$B$3:$G$145,1,FALSE)","v":"2153991207507"},{"$f":"VLOOKUP(A107,[2]Sheet1!$CE$2:$CS$1539,15,FALSE)","v":{"v":222.5,"d":"222.50"}},{"v":37.0833333333333,"d":"37.08"},{"$f":"VLOOKUP(A107,[1]Sheet3!$B$3:$G$145,6,FALSE)","v":78.3},39.15,{"v":76.2333333333333,"d":"76.23"}]
["2153991206408",{"$f":"VLOOKUP(A108,[1]Sheet3!$B$3:$G$145,2,FALSE)","v":"云南省广播电视局事业发展中心"},{"$f":"VLOOKUP(A108,[1]Sheet3!$B$3:$G$145,3,FALSE)","v":"编辑"},{"$f":"VLOOKUP(A108,[1]Sheet3!$B$3:$G$145,4,FALSE)","v":"15399099157002003"},{"$f":"VLOOKUP(A108,[1]Sheet3!$B$3:$G$145,1,FALSE)","v":"2153991206408"},{"$f":"VLOOKUP(A108,[2]Sheet1!$CE$2:$CS$1539,15,FALSE)","v":{"v":211,"d":"211.00"}},{"v":35.1666666666667,"d":"35.17"},{"$f":"VLOOKUP(A108,[1]Sheet3!$B$3:$G$145,6,FALSE)","v":78},{"v":39,"d":"39.00"},{"v":74.1666666666667,"d":"74.17"}]
["2153991208509",{"$f":"VLOOKUP(A109,[1]Sheet3!$B$3:$G$145,2,FALSE)","v":"云南省广播电视局事业发展中心"},{"$f":"VLOOKUP(A109,[1]Sheet3!$B$3:$G$145,3,FALSE)","v":"编辑"},{"$f":"VLOOKUP(A109,[1]Sheet3!$B$3:$G$145,4,FALSE)","v":"15399099157002004"},{"$f":"VLOOKUP(A109,[1]Sheet3!$B$3:$G$145,1,FALSE)","v":"2153991208509"},{"$f":"VLOOKUP(A109,[2]Sheet1!$CE$2:$CS$1539,15,FALSE)","v":{"v":217.5,"d":"217.50"}},36.25,{"$f":"VLOOKUP(A109,[1]Sheet3!$B$3:$G$145,6,FALSE)","v":81.8},{"v":40.9,"d":"40.90"},77.15]
["2153991207807",{"$f":"VLOOKUP(A110,[1]Sheet3!$B$3:$G$145,2,FALSE)","v":"云南省广播电视局事业发展中心"},{"$f":"VLOOKUP(A110,[1]Sheet3!$B$3:$G$145,3,FALSE)","v":"编辑"},{"$f":"VLOOKUP(A110,[1]Sheet3!$B$3:$G$145,4,FALSE)","v":"15399099157002004"},{"$f":"VLOOKUP(A110,[1]Sheet3!$B$3:$G$145,1,FALSE)","v":"2153991207807"},{"$f":"VLOOKUP(A110,[2]Sheet1!$CE$2:$CS$1539,15,FALSE)","v":{"v":218,"d":"218.00"}},{"v":36.3333333333333,"d":"36.33"},{"$f":"VLOOKUP(A110,[1]Sheet3!$B$3:$G$145,6,FALSE)","v":81.3},40.65,{"v":76.9833333333333,"d":"76.98"}]
["2153991201016",{"$f":"VLOOKUP(A111,[1]Sheet3!$B$3:$G$145,2,FALSE)","v":"云南省广播电视局事业发展中心"},{"$f":"VLOOKUP(A111,[1]Sheet3!$B$3:$G$145,3,FALSE)","v":"编辑"},{"$f":"VLOOKUP(A111,[1]Sheet3!$B$3:$G$145,4,FALSE)","v":"15399099157002004"},{"$f":"VLOOKUP(A111,[1]Sheet3!$B$3:$G$145,1,FALSE)","v":"2153991201016"},{"$f":"VLOOKUP(A111,[2]Sheet1!$CE$2:$CS$1539,15,FALSE)","v":{"v":218,"d":"218.00"}},{"v":36.3333333333333,"d":"36.33"},{"$f":"VLOOKUP(A111,[1]Sheet3!$B$3:$G$145,6,FALSE)","v":80.6},{"v":40.3,"d":"40.30"},{"v":76.6333333333333,"d":"76.63"}]
["2153991204614",{"$f":"VLOOKUP(A112,[1]Sheet3!$B$3:$G$145,2,FALSE)","v":"云南省广播电视局事业发展中心"},{"$f":"VLOOKUP(A112,[1]Sheet3!$B$3:$G$145,3,FALSE)","v":"编辑"},{"$f":"VLOOKUP(A112,[1]Sheet3!$B$3:$G$145,4,FALSE)","v":"15399099157002004"},{"$f":"VLOOKUP(A112,[1]Sheet3!$B$3:$G$145,1,FALSE)","v":"2153991204614"},{"$f":"VLOOKUP(A112,[2]Sheet1!$CE$2:$CS$1539,15,FALSE)","v":{"v":218.5,"d":"218.50"}},{"v":36.4166666666667,"d":"36.42"},{"$f":"VLOOKUP(A112,[1]Sheet3!$B$3:$G$145,6,FALSE)","v":79.5},39.75,{"v":76.1666666666667,"d":"76.17"}]
["2153991200804",{"$f":"VLOOKUP(A113,[1]Sheet3!$B$3:$G$145,2,FALSE)","v":"云南省广播电视局事业发展中心"},{"$f":"VLOOKUP(A113,[1]Sheet3!$B$3:$G$145,3,FALSE)","v":"编辑"},{"$f":"VLOOKUP(A113,[1]Sheet3!$B$3:$G$145,4,FALSE)","v":"15399099157002004"},{"$f":"VLOOKUP(A113,[1]Sheet3!$B$3:$G$145,1,FALSE)","v":"2153991200804"},{"$f":"VLOOKUP(A113,[2]Sheet1!$CE$2:$CS$1539,15,FALSE)","v":{"v":225,"d":"225.00"}},{"v":37.5,"d":"37.50"},{"$f":"VLOOKUP(A113,[1]Sheet3!$B$3:$G$145,6,FALSE)","v":77.8},{"v":38.9,"d":"38.90"},{"v":76.4,"d":"76.40"}]
["1153991500826",{"$f":"VLOOKUP(A114,[1]Sheet3!$B$3:$G$145,2,FALSE)","v":"云南省广播电视局腾冲中波台"},{"$f":"VLOOKUP(A114,[1]Sheet3!$B$3:$G$145,3,FALSE)","v":"会计"},{"$f":"VLOOKUP(A114,[1]Sheet3!$B$3:$G$145,4,FALSE)","v":"15399099157029001"},{"$f":"VLOOKUP(A114,[1]Sheet3!$B$3:$G$145,1,FALSE)","v":"1153991500826"},{"$f":"VLOOKUP(A114,[2]Sheet1!$CE$2:$CS$1539,15,FALSE)","v":{"v":210,"d":"210.00"}},{"v":35,"d":"35.00"},{"$f":"VLOOKUP(A114,[1]Sheet3!$B$3:$G$145,6,FALSE)","v":80.46},40.23,75.23]
["1153991502727",{"$f":"VLOOKUP(A115,[1]Sheet3!$B$3:$G$145,2,FALSE)","v":"云南省广播电视局腾冲中波台"},{"$f":"VLOOKUP(A115,[1]Sheet3!$B$3:$G$145,3,FALSE)","v":"会计"},{"$f":"VLOOKUP(A115,[1]Sheet3!$B$3:$G$145,4,FALSE)","v":"15399099157029001"},{"$f":"VLOOKUP(A115,[1]Sheet3!$B$3:$G$145,1,FALSE)","v":"1153991502727"},{"$f":"VLOOKUP(A115,[2]Sheet1!$CE$2:$CS$1539,15,FALSE)","v":{"v":199,"d":"199.00"}},{"v":33.1666666666667,"d":"33.17"},{"$f":"VLOOKUP(A115,[1]Sheet3!$B$3:$G$145,6,FALSE)","v":79.3},39.65,{"v":72.8166666666667,"d":"72.82"}]
["1153991502025",{"$f":"VLOOKUP(A116,[1]Sheet3!$B$3:$G$145,2,FALSE)","v":"云南省广播电视局文山703台"},{"$f":"VLOOKUP(A116,[1]Sheet3!$B$3:$G$145,3,FALSE)","v":"会计"},{"$f":"VLOOKUP(A116,[1]Sheet3!$B$3:$G$145,4,FALSE)","v":"15399099157004001"},{"$f":"VLOOKUP(A116,[1]Sheet3!$B$3:$G$145,1,FALSE)","v":"1153991502025"},{"$f":"VLOOKUP(A116,[2]Sheet1!$CE$2:$CS$1539,15,FALSE)","v":{"v":210,"d":"210.00"}},{"v":35,"d":"35.00"},{"$f":"VLOOKUP(A116,[1]Sheet3!$B$3:$G$145,6,FALSE)","v":81.3},40.65,75.65]
["1153991504425",{"$f":"VLOOKUP(A117,[1]Sheet3!$B$3:$G$145,2,FALSE)","v":"云南省广播电视局文山703台"},{"$f":"VLOOKUP(A117,[1]Sheet3!$B$3:$G$145,3,FALSE)","v":"会计"},{"$f":"VLOOKUP(A117,[1]Sheet3!$B$3:$G$145,4,FALSE)","v":"15399099157004001"},{"$f":"VLOOKUP(A117,[1]Sheet3!$B$3:$G$145,1,FALSE)","v":"1153991504425"},{"$f":"VLOOKUP(A117,[2]Sheet1!$CE$2:$CS$1539,15,FALSE)","v":{"v":193,"d":"193.00"}},{"v":32.1666666666667,"d":"32.17"},{"$f":"VLOOKUP(A117,[1]Sheet3!$B$3:$G$145,6,FALSE)","v":78.6},{"v":39.3,"d":"39.30"},{"v":71.4666666666667,"d":"71.47"}]
["1153991502222",{"$f":"VLOOKUP(A118,[1]Sheet3!$B$3:$G$145,2,FALSE)","v":"云南省广播电视局西盟中波台"},{"$f":"VLOOKUP(A118,[1]Sheet3!$B$3:$G$145,3,FALSE)","v":"文秘"},{"$f":"VLOOKUP(A118,[1]Sheet3!$B$3:$G$145,4,FALSE)","v":"15399099157027001"},{"$f":"VLOOKUP(A118,[1]Sheet3!$B$3:$G$145,1,FALSE)","v":"1153991502222"},{"$f":"VLOOKUP(A118,[2]Sheet1!$CE$2:$CS$1539,15,FALSE)","v":{"v":153,"d":"153.00"}},{"v":25.5,"d":"25.50"},{"$f":"VLOOKUP(A118,[1]Sheet3!$B$3:$G$145,6,FALSE)","v":78.8},{"v":39.4,"d":"39.40"},{"v":64.9,"d":"64.90"}]
["1153991504817",{"$f":"VLOOKUP(A119,[1]Sheet3!$B$3:$G$145,2,FALSE)","v":"云南省广播电视局西盟中波台"},{"$f":"VLOOKUP(A119,[1]Sheet3!$B$3:$G$145,3,FALSE)","v":"文秘"},{"$f":"VLOOKUP(A119,[1]Sheet3!$B$3:$G$145,4,FALSE)","v":"15399099157027001"},{"$f":"VLOOKUP(A119,[1]Sheet3!$B$3:$G$145,1,FALSE)","v":"1153991504817"},{"$f":"VLOOKUP(A119,[2]Sheet1!$CE$2:$CS$1539,15,FALSE)","v":{"v":137.5,"d":"137.50"}},{"v":22.9166666666667,"d":"22.92"},{"$f":"VLOOKUP(A119,[1]Sheet3!$B$3:$G$145,6,FALSE)","v":75.1},37.55,{"v":60.4666666666667,"d":"60.47"}]
["3153993205230",{"$f":"VLOOKUP(A120,[1]Sheet3!$B$3:$G$145,2,FALSE)","v":"云南省广播电视局西盟中波台"},{"$f":"VLOOKUP(A120,[1]Sheet3!$B$3:$G$145,3,FALSE)","v":"广播电视工程"},{"$f":"VLOOKUP(A120,[1]Sheet3!$B$3:$G$145,4,FALSE)","v":"15399099157027002"},{"$f":"VLOOKUP(A120,[1]Sheet3!$B$3:$G$145,1,FALSE)","v":"3153993205230"},{"$f":"VLOOKUP(A120,[2]Sheet1!$CE$2:$CS$1539,15,FALSE)","v":{"v":146,"d":"146.00"}},{"v":24.3333333333333,"d":"24.33"},{"$f":"VLOOKUP(A120,[1]Sheet3!$B$3:$G$145,6,FALSE)","v":81.6},{"v":40.8,"d":"40.80"},{"v":65.1333333333333,"d":"65.13"}]
["3153993207408",{"$f":"VLOOKUP(A121,[1]Sheet3!$B$3:$G$145,2,FALSE)","v":"云南省广播电视局西盟中波台"},{"$f":"VLOOKUP(A121,[1]Sheet3!$B$3:$G$145,3,FALSE)","v":"广播电视工程"},{"$f":"VLOOKUP(A121,[1]Sheet3!$B$3:$G$145,4,FALSE)","v":"15399099157027002"},{"$f":"VLOOKUP(A121,[1]Sheet3!$B$3:$G$145,1,FALSE)","v":"3153993207408"},{"$f":"VLOOKUP(A121,[2]Sheet1!$CE$2:$CS$1539,15,FALSE)","v":{"v":171,"d":"171.00"}},{"v":28.5,"d":"28.50"},{"$f":"VLOOKUP(A121,[1]Sheet3!$B$3:$G$145,6,FALSE)","v":81.4},{"v":40.7,"d":"40.70"},{"v":69.2,"d":"69.20"}]
["3153993207301",{"$f":"VLOOKUP(A122,[1]Sheet3!$B$3:$G$145,2,FALSE)","v":"云南省广播电视局西盟中波台"},{"$f":"VLOOKUP(A122,[1]Sheet3!$B$3:$G$145,3,FALSE)","v":"广播电视工程"},{"$f":"VLOOKUP(A122,[1]Sheet3!$B$3:$G$145,4,FALSE)","v":"15399099157027002"},{"$f":"VLOOKUP(A122,[1]Sheet3!$B$3:$G$145,1,FALSE)","v":"3153993207301"},{"$f":"VLOOKUP(A122,[2]Sheet1!$CE$2:$CS$1539,15,FALSE)","v":{"v":152,"d":"152.00"}},{"v":25.3333333333333,"d":"25.33"},{"$f":"VLOOKUP(A122,[1]Sheet3!$B$3:$G$145,6,FALSE)","v":80.6},{"v":40.3,"d":"40.30"},{"v":65.6333333333333,"d":"65.63"}]
["3153993205927",{"$f":"VLOOKUP(A123,[1]Sheet3!$B$3:$G$145,2,FALSE)","v":"云南省广播电视局西盟中波台"},{"$f":"VLOOKUP(A123,[1]Sheet3!$B$3:$G$145,3,FALSE)","v":"广播电视工程"},{"$f":"VLOOKUP(A123,[1]Sheet3!$B$3:$G$145,4,FALSE)","v":"15399099157027002"},{"$f":"VLOOKUP(A123,[1]Sheet3!$B$3:$G$145,1,FALSE)","v":"3153993205927"},{"$f":"VLOOKUP(A123,[2]Sheet1!$CE$2:$CS$1539,15,FALSE)","v":{"v":144.5,"d":"144.50"}},{"v":24.0833333333333,"d":"24.08"},{"$f":"VLOOKUP(A123,[1]Sheet3!$B$3:$G$145,6,FALSE)","v":78.6},{"v":39.3,"d":"39.30"},{"v":63.3833333333333,"d":"63.38"}]
["3153993206802",{"$f":"VLOOKUP(A124,[1]Sheet3!$B$3:$G$145,2,FALSE)","v":"云南省广播电视局西盟中波台"},{"$f":"VLOOKUP(A124,[1]Sheet3!$B$3:$G$145,3,FALSE)","v":"广播电视工程"},{"$f":"VLOOKUP(A124,[1]Sheet3!$B$3:$G$145,4,FALSE)","v":"15399099157027002"},{"$f":"VLOOKUP(A124,[1]Sheet3!$B$3:$G$145,1,FALSE)","v":"3153993206802"},{"$f":"VLOOKUP(A124,[2]Sheet1!$CE$2:$CS$1539,15,FALSE)","v":{"v":133.5,"d":"133.50"}},22.25,{"$f":"VLOOKUP(A124,[1]Sheet3!$B$3:$G$145,6,FALSE)","v":76.4},{"v":38.2,"d":"38.20"},60.45]
["1153991500625",{"$f":"VLOOKUP(A125,[1]Sheet3!$B$3:$G$145,2,FALSE)","v":"云南省广播电视局西双版纳中波台"},{"$f":"VLOOKUP(A125,[1]Sheet3!$B$3:$G$145,3,FALSE)","v":"会计"},{"$f":"VLOOKUP(A125,[1]Sheet3!$B$3:$G$145,4,FALSE)","v":"15399099157010001"},{"$f":"VLOOKUP(A125,[1]Sheet3!$B$3:$G$145,1,FALSE)","v":"1153991500625"},{"$f":"VLOOKUP(A125,[2]Sheet1!$CE$2:$CS$1539,15,FALSE)","v":{"v":181.5,"d":"181.50"}},30.25,{"$f":"VLOOKUP(A125,[1]Sheet3!$B$3:$G$145,6,FALSE)","v":80.2},{"v":40.1,"d":"40.10"},70.35]
["1153991503528",{"$f":"VLOOKUP(A126,[1]Sheet3!$B$3:$G$145,2,FALSE)","v":"云南省广播电视局西双版纳中波台"},{"$f":"VLOOKUP(A126,[1]Sheet3!$B$3:$G$145,3,FALSE)","v":"会计"},{"$f":"VLOOKUP(A126,[1]Sheet3!$B$3:$G$145,4,FALSE)","v":"15399099157010001"},{"$f":"VLOOKUP(A126,[1]Sheet3!$B$3:$G$145,1,FALSE)","v":"1153991503528"},{"$f":"VLOOKUP(A126,[2]Sheet1!$CE$2:$CS$1539,15,FALSE)","v":{"v":201,"d":"201.00"}},{"v":33.5,"d":"33.50"},{"$f":"VLOOKUP(A126,[1]Sheet3!$B$3:$G$145,6,FALSE)","v":79},{"v":39.5,"d":"39.50"},{"v":73,"d":"73.00"}]
["1153991501927",{"$f":"VLOOKUP(A127,[1]Sheet3!$B$3:$G$145,2,FALSE)","v":"云南省广播电视局盈江中波台"},{"$f":"VLOOKUP(A127,[1]Sheet3!$B$3:$G$145,3,FALSE)","v":"会计"},{"$f":"VLOOKUP(A127,[1]Sheet3!$B$3:$G$145,4,FALSE)","v":"15399099157032001"},{"$f":"VLOOKUP(A127,[1]Sheet3!$B$3:$G$145,1,FALSE)","v":"1153991501927"},{"$f":"VLOOKUP(A127,[2]Sheet1!$CE$2:$CS$1539,15,FALSE)","v":{"v":200.5,"d":"200.50"}},{"v":33.4166666666667,"d":"33.42"},{"$f":"VLOOKUP(A127,[1]Sheet3!$B$3:$G$145,6,FALSE)","v":80.5},40.25,{"v":73.6666666666667,"d":"73.67"}]
["1153991502301",{"$f":"VLOOKUP(A128,[1]Sheet3!$B$3:$G$145,2,FALSE)","v":"云南省广播电视局盈江中波台"},{"$f":"VLOOKUP(A128,[1]Sheet3!$B$3:$G$145,3,FALSE)","v":"会计"},{"$f":"VLOOKUP(A128,[1]Sheet3!$B$3:$G$145,4,FALSE)","v":"15399099157032001"},{"$f":"VLOOKUP(A128,[1]Sheet3!$B$3:$G$145,1,FALSE)","v":"1153991502301"},{"$f":"VLOOKUP(A128,[2]Sheet1!$CE$2:$CS$1539,15,FALSE)","v":{"v":201.5,"d":"201.50"}},{"v":33.5833333333333,"d":"33.58"},{"$f":"VLOOKUP(A128,[1]Sheet3!$B$3:$G$145,6,FALSE)","v":79.3},39.65,{"v":73.2333333333333,"d":"73.23"}]
["1153991501821",{"$f":"VLOOKUP(A129,[1]Sheet3!$B$3:$G$145,2,FALSE)","v":"云南省广播电视局盈江中波台"},{"$f":"VLOOKUP(A129,[1]Sheet3!$B$3:$G$145,3,FALSE)","v":"文秘"},{"$f":"VLOOKUP(A129,[1]Sheet3!$B$3:$G$145,4,FALSE)","v":"15399099157032002"},{"$f":"VLOOKUP(A129,[1]Sheet3!$B$3:$G$145,1,FALSE)","v":"1153991501821"},{"$f":"VLOOKUP(A129,[2]Sheet1!$CE$2:$CS$1539,15,FALSE)","v":{"v":200,"d":"200.00"}},{"v":33.3333333333333,"d":"33.33"},{"$f":"VLOOKUP(A129,[1]Sheet3!$B$3:$G$145,6,FALSE)","v":83.2},{"v":41.6,"d":"41.60"},{"v":74.9333333333333,"d":"74.93"}]
["1153991503602",{"$f":"VLOOKUP(A130,[1]Sheet3!$B$3:$G$145,2,FALSE)","v":"云南省广播电视局盈江中波台"},{"$f":"VLOOKUP(A130,[1]Sheet3!$B$3:$G$145,3,FALSE)","v":"文秘"},{"$f":"VLOOKUP(A130,[1]Sheet3!$B$3:$G$145,4,FALSE)","v":"15399099157032002"},{"$f":"VLOOKUP(A130,[1]Sheet3!$B$3:$G$145,1,FALSE)","v":"1153991503602"},{"$f":"VLOOKUP(A130,[2]Sheet1!$CE$2:$CS$1539,15,FALSE)","v":{"v":203,"d":"203.00"}},{"v":33.8333333333333,"d":"33.83"},{"$f":"VLOOKUP(A130,[1]Sheet3!$B$3:$G$145,6,FALSE)","v":83.1},41.55,{"v":75.3833333333333,"d":"75.38"}]
["1153991504214",{"$f":"VLOOKUP(A131,[1]Sheet3!$B$3:$G$145,2,FALSE)","v":"云南省广播电视局永仁698台"},{"$f":"VLOOKUP(A131,[1]Sheet3!$B$3:$G$145,3,FALSE)","v":"文秘"},{"$f":"VLOOKUP(A131,[1]Sheet3!$B$3:$G$145,4,FALSE)","v":"15399099157014001"},{"$f":"VLOOKUP(A131,[1]Sheet3!$B$3:$G$145,1,FALSE)","v":"1153991504214"},{"$f":"VLOOKUP(A131,[2]Sheet1!$CE$2:$CS$1539,15,FALSE)","v":{"v":211,"d":"211.00"}},{"$f":"(F131/300*100)*0.5","v":{"v":35.1666666666667,"d":"35.17"}},{"$f":"VLOOKUP(A131,[1]Sheet3!$B$3:$G$145,6,FALSE)","v":84.8},{"$f":"H131*0.5","v":{"v":42.4,"d":"42.40"}},{"$f":"G131+I131","v":{"v":77.5666666666667,"d":"77.57"}}]
["1153991502524",{"$f":"VLOOKUP(A132,[1]Sheet3!$B$3:$G$145,2,FALSE)","v":"云南省广播电视局永仁698台"},{"$f":"VLOOKUP(A132,[1]Sheet3!$B$3:$G$145,3,FALSE)","v":"文秘"},{"$f":"VLOOKUP(A132,[1]Sheet3!$B$3:$G$145,4,FALSE)","v":"15399099157014001"},{"$f":"VLOOKUP(A132,[1]Sheet3!$B$3:$G$145,1,FALSE)","v":"1153991502524"},{"$f":"VLOOKUP(A132,[2]Sheet1!$CE$2:$CS$1539,15,FALSE)","v":{"v":204.5,"d":"204.50"}},{"v":34.0833333333333,"d":"34.08"},{"$f":"VLOOKUP(A132,[1]Sheet3!$B$3:$G$145,6,FALSE)","v":82.3},41.15,{"v":75.2333333333333,"d":"75.23"}]
["1153991500628",{"$f":"VLOOKUP(A133,[1]Sheet3!$B$3:$G$145,2,FALSE)","v":"云南省广播电视局元江694台"},{"$f":"VLOOKUP(A133,[1]Sheet3!$B$3:$G$145,3,FALSE)","v":"文秘"},{"$f":"VLOOKUP(A133,[1]Sheet3!$B$3:$G$145,4,FALSE)","v":"15399099157015001"},{"$f":"VLOOKUP(A133,[1]Sheet3!$B$3:$G$145,1,FALSE)","v":"1153991500628"},{"$f":"VLOOKUP(A133,[2]Sheet1!$CE$2:$CS$1539,15,FALSE)","v":{"v":202.5,"d":"202.50"}},33.75,{"$f":"VLOOKUP(A133,[1]Sheet3!$B$3:$G$145,6,FALSE)","v":82.3},41.15,{"v":74.9,"d":"74.90"}]
["1153991502415",{"$f":"VLOOKUP(A134,[1]Sheet3!$B$3:$G$145,2,FALSE)","v":"云南省广播电视局元江694台"},{"$f":"VLOOKUP(A134,[1]Sheet3!$B$3:$G$145,3,FALSE)","v":"文秘"},{"$f":"VLOOKUP(A134,[1]Sheet3!$B$3:$G$145,4,FALSE)","v":"15399099157015001"},{"$f":"VLOOKUP(A134,[1]Sheet3!$B$3:$G$145,1,FALSE)","v":"1153991502415"},{"$f":"VLOOKUP(A134,[2]Sheet1!$CE$2:$CS$1539,15,FALSE)","v":{"v":191.5,"d":"191.50"}},{"v":31.9166666666667,"d":"31.92"},{"$f":"VLOOKUP(A134,[1]Sheet3!$B$3:$G$145,6,FALSE)","v":80.4},{"v":40.2,"d":"40.20"},{"v":72.1166666666667,"d":"72.12"}]
["3153993206617",{"$f":"VLOOKUP(A135,[1]Sheet3!$B$3:$G$145,2,FALSE)","v":"云南省广播电视局元江694台"},{"$f":"VLOOKUP(A135,[1]Sheet3!$B$3:$G$145,3,FALSE)","v":"广播电视工程"},{"$f":"VLOOKUP(A135,[1]Sheet3!$B$3:$G$145,4,FALSE)","v":"15399099157015002"},{"$f":"VLOOKUP(A135,[1]Sheet3!$B$3:$G$145,1,FALSE)","v":"3153993206617"},{"$f":"VLOOKUP(A135,[2]Sheet1!$CE$2:$CS$1539,15,FALSE)","v":{"v":186.5,"d":"186.50"}},{"v":31.0833333333333,"d":"31.08"},{"$f":"VLOOKUP(A135,[1]Sheet3!$B$3:$G$145,6,FALSE)","v":81.6},{"v":40.8,"d":"40.80"},{"v":71.8833333333333,"d":"71.88"}]
["3153993207229",{"$f":"VLOOKUP(A136,[1]Sheet3!$B$3:$G$145,2,FALSE)","v":"云南省广播电视局元江694台"},{"$f":"VLOOKUP(A136,[1]Sheet3!$B$3:$G$145,3,FALSE)","v":"广播电视工程"},{"$f":"VLOOKUP(A136,[1]Sheet3!$B$3:$G$145,4,FALSE)","v":"15399099157015002"},{"$f":"VLOOKUP(A136,[1]Sheet3!$B$3:$G$145,1,FALSE)","v":"3153993207229"},{"$f":"VLOOKUP(A136,[2]Sheet1!$CE$2:$CS$1539,15,FALSE)","v":{"v":207.5,"d":"207.50"}},{"v":34.5833333333333,"d":"34.58"},{"$f":"VLOOKUP(A136,[1]Sheet3!$B$3:$G$145,6,FALSE)","v":81},{"v":40.5,"d":"40.50"},{"v":75.0833333333333,"d":"75.08"}]
["1153991503111",{"$f":"VLOOKUP(A137,[1]Sheet3!$B$3:$G$145,2,FALSE)","v":"云南省广播电视局昭通697台"},{"$f":"VLOOKUP(A137,[1]Sheet3!$B$3:$G$145,3,FALSE)","v":"会计"},{"$f":"VLOOKUP(A137,[1]Sheet3!$B$3:$G$145,4,FALSE)","v":"15399099157003001"},{"$f":"VLOOKUP(A137,[1]Sheet3!$B$3:$G$145,1,FALSE)","v":"1153991503111"},{"$f":"VLOOKUP(A137,[2]Sheet1!$CE$2:$CS$1539,15,FALSE)","v":{"v":196.5,"d":"196.50"}},32.75,{"$f":"VLOOKUP(A137,[1]Sheet3!$B$3:$G$145,6,FALSE)","v":78.56},39.28,72.03]
["1153991503611",{"$f":"VLOOKUP(A138,[1]Sheet3!$B$3:$G$145,2,FALSE)","v":"云南省广播电视局昭通697台"},{"$f":"VLOOKUP(A138,[1]Sheet3!$B$3:$G$145,3,FALSE)","v":"会计"},{"$f":"VLOOKUP(A138,[1]Sheet3!$B$3:$G$145,4,FALSE)","v":"15399099157003001"},{"$f":"VLOOKUP(A138,[1]Sheet3!$B$3:$G$145,1,FALSE)","v":"1153991503611"},{"$f":"VLOOKUP(A138,[2]Sheet1!$CE$2:$CS$1539,15,FALSE)","v":{"v":202.5,"d":"202.50"}},33.75,{"$f":"VLOOKUP(A138,[1]Sheet3!$B$3:$G$145,6,FALSE)","v":77.5},38.75,{"v":72.5,"d":"72.50"}]
["3153993205110",{"$f":"VLOOKUP(A139,[1]Sheet3!$B$3:$G$145,2,FALSE)","v":"云南省广播电视局昭通697台"},{"$f":"VLOOKUP(A139,[1]Sheet3!$B$3:$G$145,3,FALSE)","v":"广播电视工程"},{"$f":"VLOOKUP(A139,[1]Sheet3!$B$3:$G$145,4,FALSE)","v":"15399099157003002"},{"$f":"VLOOKUP(A139,[1]Sheet3!$B$3:$G$145,1,FALSE)","v":"3153993205110"},{"$f":"VLOOKUP(A139,[2]Sheet1!$CE$2:$CS$1539,15,FALSE)","v":{"v":192.5,"d":"192.50"}},{"v":32.0833333333333,"d":"32.08"},{"$f":"VLOOKUP(A139,[1]Sheet3!$B$3:$G$145,6,FALSE)","v":82.2},{"v":41.1,"d":"41.10"},{"v":73.1833333333333,"d":"73.18"}]
["3153993204504",{"$f":"VLOOKUP(A140,[1]Sheet3!$B$3:$G$145,2,FALSE)","v":"云南省广播电视局昭通697台"},{"$f":"VLOOKUP(A140,[1]Sheet3!$B$3:$G$145,3,FALSE)","v":"广播电视工程"},{"$f":"VLOOKUP(A140,[1]Sheet3!$B$3:$G$145,4,FALSE)","v":"15399099157003002"},{"$f":"VLOOKUP(A140,[1]Sheet3!$B$3:$G$145,1,FALSE)","v":"3153993204504"},{"$f":"VLOOKUP(A140,[2]Sheet1!$CE$2:$CS$1539,15,FALSE)","v":{"v":185,"d":"185.00"}},{"v":30.8333333333333,"d":"30.83"},{"$f":"VLOOKUP(A140,[1]Sheet3!$B$3:$G$145,6,FALSE)","v":81.8},{"v":40.9,"d":"40.90"},{"v":71.7333333333333,"d":"71.73"}]
["1153991501401",{"$f":"VLOOKUP(A141,[1]Sheet3!$B$3:$G$145,2,FALSE)","v":"云南省广播电视局镇康中波台"},{"$f":"VLOOKUP(A141,[1]Sheet3!$B$3:$G$145,3,FALSE)","v":"文秘"},{"$f":"VLOOKUP(A141,[1]Sheet3!$B$3:$G$145,4,FALSE)","v":"15399099157036001"},{"$f":"VLOOKUP(A141,[1]Sheet3!$B$3:$G$145,1,FALSE)","v":"1153991501401"},{"$f":"VLOOKUP(A141,[2]Sheet1!$CE$2:$CS$1539,15,FALSE)","v":{"v":201.5,"d":"201.50"}},{"v":33.5833333333333,"d":"33.58"},{"$f":"VLOOKUP(A141,[1]Sheet3!$B$3:$G$145,6,FALSE)","v":81},{"v":40.5,"d":"40.50"},{"v":74.0833333333333,"d":"74.08"}]
["1153991501810",{"$f":"VLOOKUP(A142,[1]Sheet3!$B$3:$G$145,2,FALSE)","v":"云南省广播电视局镇康中波台"},{"$f":"VLOOKUP(A142,[1]Sheet3!$B$3:$G$145,3,FALSE)","v":"文秘"},{"$f":"VLOOKUP(A142,[1]Sheet3!$B$3:$G$145,4,FALSE)","v":"15399099157036001"},{"$f":"VLOOKUP(A142,[1]Sheet3!$B$3:$G$145,1,FALSE)","v":"1153991501810"},{"$f":"VLOOKUP(A142,[2]Sheet1!$CE$2:$CS$1539,15,FALSE)","v":{"v":180.5,"d":"180.50"}},{"v":30.0833333333333,"d":"30.08"},{"$f":"VLOOKUP(A142,[1]Sheet3!$B$3:$G$145,6,FALSE)","v":79.7},39.85,{"v":69.9333333333333,"d":"69.93"}]
["3153993205502",{"$f":"VLOOKUP(A143,[1]Sheet3!$B$3:$G$145,2,FALSE)","v":"云南省广播电视局镇康中波台"},{"$f":"VLOOKUP(A143,[1]Sheet3!$B$3:$G$145,3,FALSE)","v":"广播电视工程"},{"$f":"VLOOKUP(A143,[1]Sheet3!$B$3:$G$145,4,FALSE)","v":"15399099157036002"},{"$f":"VLOOKUP(A143,[1]Sheet3!$B$3:$G$145,1,FALSE)","v":"3153993205502"},{"$f":"VLOOKUP(A143,[2]Sheet1!$CE$2:$CS$1539,15,FALSE)","v":{"v":177,"d":"177.00"}},{"v":29.5,"d":"29.50"},{"$f":"VLOOKUP(A143,[1]Sheet3!$B$3:$G$145,6,FALSE)","v":81.8},{"v":40.9,"d":"40.90"},{"v":70.4,"d":"70.40"}]
["3153993207406",{"$f":"VLOOKUP(A144,[1]Sheet3!$B$3:$G$145,2,FALSE)","v":"云南省广播电视局镇康中波台"},{"$f":"VLOOKUP(A144,[1]Sheet3!$B$3:$G$145,3,FALSE)","v":"广播电视工程"},{"$f":"VLOOKUP(A144,[1]Sheet3!$B$3:$G$145,4,FALSE)","v":"15399099157036002"},{"$f":"VLOOKUP(A144,[1]Sheet3!$B$3:$G$145,1,FALSE)","v":"3153993207406"},{"$f":"VLOOKUP(A144,[2]Sheet1!$CE$2:$CS$1539,15,FALSE)","v":{"v":168.5,"d":"168.50"}},{"v":28.0833333333333,"d":"28.08"},{"$f":"VLOOKUP(A144,[1]Sheet3!$B$3:$G$145,6,FALSE)","v":81},{"v":40.5,"d":"40.50"},{"v":68.5833333333333,"d":"68.58"}]
["3153993204127",{"$f":"VLOOKUP(A145,[1]Sheet3!$B$3:$G$145,2,FALSE)","v":"云南省广播电视局镇康中波台"},{"$f":"VLOOKUP(A145,[1]Sheet3!$B$3:$G$145,3,FALSE)","v":"广播电视工程"},{"$f":"VLOOKUP(A145,[1]Sheet3!$B$3:$G$145,4,FALSE)","v":"15399099157036002"},{"$f":"VLOOKUP(A145,[1]Sheet3!$B$3:$G$145,1,FALSE)","v":"3153993204127"},{"$f":"VLOOKUP(A145,[2]Sheet1!$CE$2:$CS$1539,15,FALSE)","v":{"v":201,"d":"201.00"}},{"v":33.5,"d":"33.50"},{"$f":"VLOOKUP(A145,[1]Sheet3!$B$3:$G$145,6,FALSE)","v":80.6},{"v":40.3,"d":"40.30"},{"v":73.8,"d":"73.80"}]